BEGIN:VCALENDAR
VERSION:2.0
PRODID:-//Spirit in Niagara - ECPv6.15.20//NONSGML v1.0//EN
CALSCALE:GREGORIAN
METHOD:PUBLISH
X-ORIGINAL-URL:https://spiritinniagara.com
X-WR-CALDESC:Events for Spirit in Niagara
REFRESH-INTERVAL;VALUE=DURATION:PT1H
X-Robots-Tag:noindex
X-PUBLISHED-TTL:PT1H
BEGIN:VTIMEZONE
TZID:America/Toronto
BEGIN:DAYLIGHT
TZOFFSETFROM:-0500
TZOFFSETTO:-0400
TZNAME:EDT
DTSTART:20230312T070000
END:DAYLIGHT
BEGIN:STANDARD
TZOFFSETFROM:-0400
TZOFFSETTO:-0500
TZNAME:EST
DTSTART:20231105T060000
END:STANDARD
BEGIN:DAYLIGHT
TZOFFSETFROM:-0500
TZOFFSETTO:-0400
TZNAME:EDT
DTSTART:20240310T070000
END:DAYLIGHT
BEGIN:STANDARD
TZOFFSETFROM:-0400
TZOFFSETTO:-0500
TZNAME:EST
DTSTART:20241103T060000
END:STANDARD
BEGIN:DAYLIGHT
TZOFFSETFROM:-0500
TZOFFSETTO:-0400
TZNAME:EDT
DTSTART:20250309T070000
END:DAYLIGHT
BEGIN:STANDARD
TZOFFSETFROM:-0400
TZOFFSETTO:-0500
TZNAME:EST
DTSTART:20251102T060000
END:STANDARD
END:VTIMEZONE
BEGIN:VEVENT
DTSTART;TZID=America/Toronto:20240701T000000
DTEND;TZID=America/Toronto:20240701T223000
DTSTAMP:20260419T224545
CREATED:20240624T141340Z
LAST-MODIFIED:20240625T163458Z
UID:2463-1719792000-1719873000@spiritinniagara.com
SUMMARY:Canada Day at Spirit in Niagara
DESCRIPTION:Join us on July 1st from 12 noon until 5:00 pm for a day filled with fun\, food\, and entertainment.\n\nGreat Canadian Burger Special\n\nIndulge in our exclusive Great Canadian Burger\, featuring crispy pork belly\, sautéed onions\, aged cheddar\, and a self-serve “all the fixins” condiment setup. It’s a mouthwatering treat you won’t want to miss!\n\nLive Entertainment\n\nDaytime Band: Enjoy the lively tunes of The Wilber James Blues Band from 1:00-5:00 pm\, setting the perfect backdrop for your afternoon festivities. \nJazz Pianist Paul Tobey: At 7 pm\, experience the soothing melodies of Jazz pianist Paul Toby on the Baby Grand\, creating an elegant evening ambiance. \n\n\nSpecialty Experiences\nSmoked Cocktail Demonstrations: Watch and learn from our mixologists as they craft specialty smoked cocktails\, adding a unique twist to classic beverages.\n\nCelebrate with us and make your Canada Day unforgettable at Spirit in Niagara! Enjoy local flavours\, live music\, and a vibrant atmosphere perfect for friends and family.
URL:https://spiritinniagara.com/event/canada-day-at-spirit-in-niagara/
LOCATION:Spirit in Niagara\, 458 Lakeshore Road\, Niagara-on-the-lake\, Ontario\, L0S1J0\, Canada
END:VEVENT
BEGIN:VEVENT
DTSTART;TZID=America/Toronto:20240713T190000
DTEND;TZID=America/Toronto:20240713T223000
DTSTAMP:20260419T224545
CREATED:20240624T130711Z
LAST-MODIFIED:20240624T130929Z
UID:2459-1720897200-1720909800@spiritinniagara.com
SUMMARY:Roaring '20s Party at Spirit in Niagara
DESCRIPTION:Roaring ’20s Party\nStep back in time to the Roaring ’20s! Join us at our craft cocktail bar and restaurant for an unforgettable night of glitz\, glamour\, and Gatsby-inspired fun. 🍸 \nDress to impress and get ready to dance the night away! While costumes are not mandatory\, prizes will be awarded to the best dressed! \nWe will welcome you with a lovely libation\, with more available for purchase throughout the evening. Plus\, we’ll have an array of delectable appetizers for your sampling delight. \nWe can’t wait to see you there! Book your tickets!💃
URL:https://spiritinniagara.com/event/roaring-20s-party-at-spirit-in-niagara/
LOCATION:Spirit in Niagara\, 458 Lakeshore Road\, Niagara-on-the-lake\, Ontario\, L0S1J0\, Canada
END:VEVENT
BEGIN:VEVENT
DTSTART;TZID=America/Toronto:20240715T180000
DTEND;TZID=America/Toronto:20240715T190000
DTSTAMP:20260419T224545
CREATED:20240715T171005Z
LAST-MODIFIED:20240715T172259Z
UID:2481-1721066400-1721070000@spiritinniagara.com
SUMMARY:MONDAY BLOOZ & JAZZ FT WILBER JAMES BAND
DESCRIPTION:Grab your dancing shoes and head to SiN Monday night for jazz\, blues\, cocktails & food. \nSpirit in Niagara is proud to feature live music EVERY Monday from 6pm-8pm. \nThis week we will be featuring the Wilber James Blues Band! \nFree admission\, book online or call to reserve a table 905-934-1300.
URL:https://spiritinniagara.com/event/monday-blooz-jazz-ft-wilber-james-band/
LOCATION:Spirit in Niagara\, 458 Lakeshore Road\, Niagara-on-the-lake\, Ontario\, L0S1J0\, Canada
CATEGORIES:Live Music
END:VEVENT
BEGIN:VEVENT
DTSTART;TZID=America/Toronto:20240722T180000
DTEND;TZID=America/Toronto:20240722T200000
DTSTAMP:20260419T224545
CREATED:20240715T170232Z
LAST-MODIFIED:20240715T172229Z
UID:2476-1721671200-1721678400@spiritinniagara.com
SUMMARY:MONDAY BLOOZ & JAZZ FT THE THOMAS NELSON BAND
DESCRIPTION:Grab your dancing shoes and head to SiN Monday night for jazz\, blues\, cocktails & food. \nSpirit in Niagara is proud to announce live music every Monday from 6pm-8pm\, this week featuring the Thomas Nelson Band! \nFree admission\, book online or call to reserve a table at 905-934-1300.
URL:https://spiritinniagara.com/event/the-thomas-nelson-band/
LOCATION:Spirit in Niagara\, 458 Lakeshore Road\, Niagara-on-the-lake\, Ontario\, L0S1J0\, Canada
CATEGORIES:Live Music
END:VEVENT
BEGIN:VEVENT
DTSTART;TZID=America/Toronto:20240729T180000
DTEND;TZID=America/Toronto:20240729T190000
DTSTAMP:20260419T224545
CREATED:20240715T172432Z
LAST-MODIFIED:20240715T172432Z
UID:2484-1722276000-1722279600@spiritinniagara.com
SUMMARY:MONDAY BLOOZ & JAZZ FT WILBER JAMES BLUES BAND
DESCRIPTION:Grab your dancing shoes and head to SiN Monday night for jazz\, blues\, cocktails & food. \nSpirit in Niagara is proud to feature live music EVERY Monday from 6pm-8pm. \nThis week we will be featuring the Wilber James Blues Band! \nFree admission\, book online or call to reserve a table 905-934-1300.
URL:https://spiritinniagara.com/event/monday-blooz-jazz-ft-wilber-james-blues-band-32/
LOCATION:Spirit in Niagara\, 458 Lakeshore Road\, Niagara-on-the-lake\, Ontario\, L0S1J0\, Canada
END:VEVENT
END:VCALENDAR