BEGIN:VCALENDAR
VERSION:2.0
PRODID:-//Spirit in Niagara - ECPv6.15.20//NONSGML v1.0//EN
CALSCALE:GREGORIAN
METHOD:PUBLISH
X-ORIGINAL-URL:https://spiritinniagara.com
X-WR-CALDESC:Events for Spirit in Niagara
REFRESH-INTERVAL;VALUE=DURATION:PT1H
X-Robots-Tag:noindex
X-PUBLISHED-TTL:PT1H
BEGIN:VTIMEZONE
TZID:America/Toronto
BEGIN:DAYLIGHT
TZOFFSETFROM:-0500
TZOFFSETTO:-0400
TZNAME:EDT
DTSTART:20230312T070000
END:DAYLIGHT
BEGIN:STANDARD
TZOFFSETFROM:-0400
TZOFFSETTO:-0500
TZNAME:EST
DTSTART:20231105T060000
END:STANDARD
BEGIN:DAYLIGHT
TZOFFSETFROM:-0500
TZOFFSETTO:-0400
TZNAME:EDT
DTSTART:20240310T070000
END:DAYLIGHT
BEGIN:STANDARD
TZOFFSETFROM:-0400
TZOFFSETTO:-0500
TZNAME:EST
DTSTART:20241103T060000
END:STANDARD
BEGIN:DAYLIGHT
TZOFFSETFROM:-0500
TZOFFSETTO:-0400
TZNAME:EDT
DTSTART:20250309T070000
END:DAYLIGHT
BEGIN:STANDARD
TZOFFSETFROM:-0400
TZOFFSETTO:-0500
TZNAME:EST
DTSTART:20251102T060000
END:STANDARD
END:VTIMEZONE
BEGIN:VEVENT
DTSTART;TZID=America/Toronto:20240603T180000
DTEND;TZID=America/Toronto:20240603T200000
DTSTAMP:20260419T224545
CREATED:20240426T152637Z
LAST-MODIFIED:20240426T152637Z
UID:2390-1717437600-1717444800@spiritinniagara.com
SUMMARY:MONDAY BLOOZ & JAZZ FT. WILBER JAMES BLUES BAND
DESCRIPTION:Grab your dancing shoes and head to SiN Monday night for jazz\, blues\, cocktails & food. \nSpirit in Niagara is proud to feature live music EVERY Monday from 6pm-8pm. \nThis week we will be featuring the Wilber James Blues Band! \nFree admission\, book online or call to reserve a table 905-934-1300. \nMonday Night Menu: Blooz & Jazz Night Menu
URL:https://spiritinniagara.com/event/monday-blooz-jazz-ft-wilber-james-blues-band-30/
LOCATION:Ontario
END:VEVENT
BEGIN:VEVENT
DTSTART;TZID=America/Toronto:20240606T170000
DTEND;TZID=America/Toronto:20240606T193000
DTSTAMP:20260419T224545
CREATED:20240426T153545Z
LAST-MODIFIED:20240426T153545Z
UID:2409-1717693200-1717702200@spiritinniagara.com
SUMMARY:DATE NIGHT DELIGHT FT. ED PIZZO ON THE BABY GRAND PIANO
DESCRIPTION:Attention all music lovers! \nGet ready for an unforgettable night of live piano music with the talented Ed Pizzo at Spirit in Niagara Distillery! \nJoin us every Thursday from 5pm to 7:30pm and let Ed’s magical tunes transport you to a world of timelessly beautiful melodies.\nPerfect accompaniment for our delicious Niagara cocktails and cuisine.\nSo mark your calendars and don’t miss out\, see you at Spirit in Niagara every Thursday!
URL:https://spiritinniagara.com/event/date-night-delight-ft-ed-pizzo-on-the-baby-grand-piano-6/
LOCATION:Ontario
END:VEVENT
BEGIN:VEVENT
DTSTART;TZID=America/Toronto:20240610T180000
DTEND;TZID=America/Toronto:20240610T200000
DTSTAMP:20260419T224545
CREATED:20240426T150932Z
LAST-MODIFIED:20240426T150932Z
UID:2377-1718042400-1718049600@spiritinniagara.com
SUMMARY:MONDAY BLOOZ & JAZZ FT. THOMAS NELSON BAND
DESCRIPTION:Grab your dancing shoes and head to SiN Monday night for jazz\, blues\, cocktails & food. \nSpirit in Niagara is proud to announce live music every Monday from 6pm-8pm\, this week featuring the Thomas Nelson Band! \nFree admission\, book online or call to reserve a table 905-934-1300. \nMonday Night Menu: Blooz & Jazz Night Menu
URL:https://spiritinniagara.com/event/monday-blooz-jazz-ft-thomas-nelson-band-28/
LOCATION:Ontario
END:VEVENT
BEGIN:VEVENT
DTSTART;TZID=America/Toronto:20240613T170000
DTEND;TZID=America/Toronto:20240613T193000
DTSTAMP:20260419T224545
CREATED:20240426T153619Z
LAST-MODIFIED:20240426T153619Z
UID:2411-1718298000-1718307000@spiritinniagara.com
SUMMARY:DATE NIGHT DELIGHT FT. ED PIZZO ON THE BABY GRAND PIANO
DESCRIPTION:Attention all music lovers! \nGet ready for an unforgettable night of live piano music with the talented Ed Pizzo at Spirit in Niagara Distillery! \nJoin us every Thursday from 5pm to 7:30pm and let Ed’s magical tunes transport you to a world of timelessly beautiful melodies.\nPerfect accompaniment for our delicious Niagara cocktails and cuisine.\nSo mark your calendars and don’t miss out\, see you at Spirit in Niagara every Thursday!
URL:https://spiritinniagara.com/event/date-night-delight-ft-ed-pizzo-on-the-baby-grand-piano-7/
LOCATION:Ontario
END:VEVENT
BEGIN:VEVENT
DTSTART;TZID=America/Toronto:20240616T110000
DTEND;TZID=America/Toronto:20240616T170000
DTSTAMP:20260419T224545
CREATED:20240604T150821Z
LAST-MODIFIED:20240604T151647Z
UID:2449-1718535600-1718557200@spiritinniagara.com
SUMMARY:Father's Day Orchard BBQ
DESCRIPTION:SiNful Father’s Day Celebration on Sunday\, June 16th! \nCelebrate Father’s Day with a served buffet offering fresh\, savoury\, and sweet delights in our charming peach orchard. \nJoin us for a day filled with delicious offerings and the rustic beauty of Spirit in Niagara. \n🍑 Complimentary Treats for Dad: Fathers can enjoy a complimentary sample of our signature Mixed Mash Whisky. \n🍹 Fun for Kids: Little ones can sip on a complimentary non-alcoholic beverage while enjoying the orchard’s picturesque views. \n🥃 Smoked Hickory Old Fashioned Demonstration – A must see event! (if you know\, you know!) \nTime | 11:00 AM – 5:00 PM\nAdults | $89.00 per person\nChildren 12 years old and under | $39.00 per person \nJoin us for a memorable Father’s Day experience filled with love\, laughter\, and local flavours at Spirit in Niagara!
URL:https://spiritinniagara.com/event/fathers-day-orchard-bbq-2/
LOCATION:Spirit in Niagara\, 458 Lakeshore Road\, Niagara-on-the-lake\, Ontario\, L0S1J0\, Canada
END:VEVENT
BEGIN:VEVENT
DTSTART;TZID=America/Toronto:20240617T180000
DTEND;TZID=America/Toronto:20240617T200000
DTSTAMP:20260419T224545
CREATED:20240426T152715Z
LAST-MODIFIED:20240426T152715Z
UID:2392-1718647200-1718654400@spiritinniagara.com
SUMMARY:MONDAY BLOOZ & JAZZ FT. WILBER JAMES BLUES BAND
DESCRIPTION:Grab your dancing shoes and head to SiN Monday night for jazz\, blues\, cocktails & food. \nSpirit in Niagara is proud to feature live music EVERY Monday from 6pm-8pm. \nThis week we will be featuring the Wilber James Blues Band! \nFree admission\, book online or call to reserve a table 905-934-1300. \nMonday Night Menu: Blooz & Jazz Night Menu
URL:https://spiritinniagara.com/event/monday-blooz-jazz-ft-wilber-james-blues-band-31/
LOCATION:Ontario
END:VEVENT
BEGIN:VEVENT
DTSTART;TZID=America/Toronto:20240620T170000
DTEND;TZID=America/Toronto:20240620T193000
DTSTAMP:20260419T224545
CREATED:20240426T153654Z
LAST-MODIFIED:20240426T153654Z
UID:2413-1718902800-1718911800@spiritinniagara.com
SUMMARY:DATE NIGHT DELIGHT FT. ED PIZZO ON THE BABY GRAND PIANO
DESCRIPTION:Attention all music lovers! \nGet ready for an unforgettable night of live piano music with the talented Ed Pizzo at Spirit in Niagara Distillery! \nJoin us every Thursday from 5pm to 7:30pm and let Ed’s magical tunes transport you to a world of timelessly beautiful melodies.\nPerfect accompaniment for our delicious Niagara cocktails and cuisine.\nSo mark your calendars and don’t miss out\, see you at Spirit in Niagara every Thursday!
URL:https://spiritinniagara.com/event/date-night-delight-ft-ed-pizzo-on-the-baby-grand-piano-8/
LOCATION:Ontario
END:VEVENT
END:VCALENDAR