BEGIN:VCALENDAR
VERSION:2.0
PRODID:-//Spirit in Niagara - ECPv6.15.20//NONSGML v1.0//EN
CALSCALE:GREGORIAN
METHOD:PUBLISH
X-ORIGINAL-URL:https://spiritinniagara.com
X-WR-CALDESC:Events for Spirit in Niagara
REFRESH-INTERVAL;VALUE=DURATION:PT1H
X-Robots-Tag:noindex
X-PUBLISHED-TTL:PT1H
BEGIN:VTIMEZONE
TZID:America/Toronto
BEGIN:DAYLIGHT
TZOFFSETFROM:-0500
TZOFFSETTO:-0400
TZNAME:EDT
DTSTART:20230312T070000
END:DAYLIGHT
BEGIN:STANDARD
TZOFFSETFROM:-0400
TZOFFSETTO:-0500
TZNAME:EST
DTSTART:20231105T060000
END:STANDARD
BEGIN:DAYLIGHT
TZOFFSETFROM:-0500
TZOFFSETTO:-0400
TZNAME:EDT
DTSTART:20240310T070000
END:DAYLIGHT
BEGIN:STANDARD
TZOFFSETFROM:-0400
TZOFFSETTO:-0500
TZNAME:EST
DTSTART:20241103T060000
END:STANDARD
BEGIN:DAYLIGHT
TZOFFSETFROM:-0500
TZOFFSETTO:-0400
TZNAME:EDT
DTSTART:20250309T070000
END:DAYLIGHT
BEGIN:STANDARD
TZOFFSETFROM:-0400
TZOFFSETTO:-0500
TZNAME:EST
DTSTART:20251102T060000
END:STANDARD
END:VTIMEZONE
BEGIN:VEVENT
DTSTART;TZID=America/Toronto:20240104T170000
DTEND;TZID=America/Toronto:20240104T193000
DTSTAMP:20260419T150131
CREATED:20240115T164532Z
LAST-MODIFIED:20240115T164532Z
UID:2268-1704387600-1704396600@spiritinniagara.com
SUMMARY:THURSDAY NIGHT DELIGHT: ED PIZZO ON PIANO
DESCRIPTION:Attention all music lovers! \nGet ready for an unforgettable night of live piano music with the talented Ed Pizzo at Spirit in Niagara Distillery! \nJoin us every Thursday from 5pm to 7:30pm and let Ed’s magical tunes transport you to a world of timelessly beautiful melodies.\nPerfect accompaniment for our delicious Niagara cocktails and cuisine.\nSo mark your calendars and don’t miss out\, see you at Spirit in Niagara every Thursday!
URL:https://spiritinniagara.com/event/thursday-night-delight-ed-pizzo-on-piano-2/
LOCATION:Ontario
END:VEVENT
BEGIN:VEVENT
DTSTART;TZID=America/Toronto:20240111T170000
DTEND;TZID=America/Toronto:20240111T193000
DTSTAMP:20260419T150131
CREATED:20240115T164857Z
LAST-MODIFIED:20240115T164857Z
UID:2270-1704992400-1705001400@spiritinniagara.com
SUMMARY:DATE NIGHT DELIGHT: ED PIZZO ON PIANO
DESCRIPTION:Attention all music lovers! \nGet ready for an unforgettable night of live piano music with the talented Ed Pizzo at Spirit in Niagara Distillery! \nJoin us every Thursday from 5pm to 7:30pm and let Ed’s magical tunes transport you to a world of timelessly beautiful melodies.\nPerfect accompaniment for our delicious Niagara cocktails and cuisine.\nSo mark your calendars and don’t miss out\, see you at Spirit in Niagara every Thursday!
URL:https://spiritinniagara.com/event/date-night-delight-ed-pizzo-on-piano/
LOCATION:Ontario
END:VEVENT
BEGIN:VEVENT
DTSTART;TZID=America/Toronto:20240115T180000
DTEND;TZID=America/Toronto:20240115T200000
DTSTAMP:20260419T150131
CREATED:20240115T164252Z
LAST-MODIFIED:20240115T164252Z
UID:2266-1705341600-1705348800@spiritinniagara.com
SUMMARY:MONDAY BLOOZ & JAZZ FT. WILBER JAMES BLUES BAND
DESCRIPTION:Grab your dancing shoes and head to SiN Monday night for jazz\, blues\, cocktails & food. \nSpirit in Niagara is proud to feature live music EVERY Monday from 6pm-8pm. \nThis week we will be featuring the Wilber James Blues Band! \nFree admission\, book online or call to reserve a table 905-934-1300. \nMonday Night Menu: Blooz & Jazz Night Menu
URL:https://spiritinniagara.com/event/monday-blooz-jazz-ft-wilber-james-blues-band-20/
LOCATION:Ontario
END:VEVENT
BEGIN:VEVENT
DTSTART;TZID=America/Toronto:20240118T170000
DTEND;TZID=America/Toronto:20240118T193000
DTSTAMP:20260419T150131
CREATED:20240115T165012Z
LAST-MODIFIED:20240205T155642Z
UID:2272-1705597200-1705606200@spiritinniagara.com
SUMMARY:DATE NIGHT DELIGHT FT. ED PIZZO ON PIANO
DESCRIPTION:Attention all music lovers! \nGet ready for an unforgettable night of live piano music with the talented Ed Pizzo at Spirit in Niagara Distillery! \nJoin us every Thursday from 5pm to 7:30pm and let Ed’s magical tunes transport you to a world of timelessly beautiful melodies.\nPerfect accompaniment for our delicious Niagara cocktails and cuisine.\nSo mark your calendars and don’t miss out\, see you at Spirit in Niagara every Thursday!
URL:https://spiritinniagara.com/event/date-night-delight-ed-pizzo-on-piano-2/
LOCATION:Ontario
END:VEVENT
BEGIN:VEVENT
DTSTART;TZID=America/Toronto:20240125T170000
DTEND;TZID=America/Toronto:20240125T193000
DTSTAMP:20260419T150131
CREATED:20240116T155041Z
LAST-MODIFIED:20240205T155625Z
UID:2275-1706202000-1706211000@spiritinniagara.com
SUMMARY:DATE NIGHT DELIGHT FT. ED PIZZO ON PIANO
DESCRIPTION:Attention all music lovers! \nGet ready for an unforgettable night of live piano music with the talented Ed Pizzo at Spirit in Niagara Distillery! \nJoin us every Thursday from 5pm to 7:30pm and let Ed’s magical tunes transport you to a world of timelessly beautiful melodies.\nPerfect accompaniment for our delicious Niagara cocktails and cuisine.\nSo mark your calendars and don’t miss out\, see you at Spirit in Niagara every Thursday!
URL:https://spiritinniagara.com/event/date-night-delight-ed-pizzo-on-piano-3/
LOCATION:Ontario
END:VEVENT
BEGIN:VEVENT
DTSTART;TZID=America/Toronto:20240129T180000
DTEND;TZID=America/Toronto:20240129T200000
DTSTAMP:20260419T150131
CREATED:20240201T182440Z
LAST-MODIFIED:20240201T182521Z
UID:2279-1706551200-1706558400@spiritinniagara.com
SUMMARY:MONDAY BLOOZ & JAZZ FT. WILBER JAMES BLUES BAND
DESCRIPTION:Grab your dancing shoes and head to SiN Monday night for jazz\, blues\, cocktails & food. \nSpirit in Niagara is proud to feature live music EVERY Monday from 6pm-8pm. \nThis week we will be featuring the Wilber James Blues Band! \nFree admission\, book online or call to reserve a table 905-934-1300. \nMonday Night Menu: Blooz & Jazz Night Menu
URL:https://spiritinniagara.com/event/monday-blooz-jazz-ft-wilber-james-blues-band-21/
LOCATION:Ontario
END:VEVENT
END:VCALENDAR