BEGIN:VCALENDAR
VERSION:2.0
PRODID:-//Spirit in Niagara - ECPv6.15.19//NONSGML v1.0//EN
CALSCALE:GREGORIAN
METHOD:PUBLISH
X-WR-CALNAME:Spirit in Niagara
X-ORIGINAL-URL:https://spiritinniagara.com
X-WR-CALDESC:Events for Spirit in Niagara
REFRESH-INTERVAL;VALUE=DURATION:PT1H
X-Robots-Tag:noindex
X-PUBLISHED-TTL:PT1H
BEGIN:VTIMEZONE
TZID:America/Toronto
BEGIN:DAYLIGHT
TZOFFSETFROM:-0500
TZOFFSETTO:-0400
TZNAME:EDT
DTSTART:20220313T070000
END:DAYLIGHT
BEGIN:STANDARD
TZOFFSETFROM:-0400
TZOFFSETTO:-0500
TZNAME:EST
DTSTART:20221106T060000
END:STANDARD
BEGIN:DAYLIGHT
TZOFFSETFROM:-0500
TZOFFSETTO:-0400
TZNAME:EDT
DTSTART:20230312T070000
END:DAYLIGHT
BEGIN:STANDARD
TZOFFSETFROM:-0400
TZOFFSETTO:-0500
TZNAME:EST
DTSTART:20231105T060000
END:STANDARD
BEGIN:DAYLIGHT
TZOFFSETFROM:-0500
TZOFFSETTO:-0400
TZNAME:EDT
DTSTART:20240310T070000
END:DAYLIGHT
BEGIN:STANDARD
TZOFFSETFROM:-0400
TZOFFSETTO:-0500
TZNAME:EST
DTSTART:20241103T060000
END:STANDARD
BEGIN:DAYLIGHT
TZOFFSETFROM:-0500
TZOFFSETTO:-0400
TZNAME:EDT
DTSTART:20250309T070000
END:DAYLIGHT
BEGIN:STANDARD
TZOFFSETFROM:-0400
TZOFFSETTO:-0500
TZNAME:EST
DTSTART:20251102T060000
END:STANDARD
END:VTIMEZONE
BEGIN:VEVENT
DTSTART;TZID=America/Toronto:20231204T180000
DTEND;TZID=America/Toronto:20231204T200000
DTSTAMP:20260419T133641
CREATED:20230814T183334Z
LAST-MODIFIED:20230814T183334Z
UID:2116-1701712800-1701720000@spiritinniagara.com
SUMMARY:MONDAY BLOOZ & JAZZ FT. WILBER JAMES BLUES BAND
DESCRIPTION:Grab your dancing shoes and head to SiN Monday night for jazz\, blues\, cocktails & food. \nSpirit in Niagara is proud to feature live music EVERY Monday from 6pm-8pm. \nThis week we will be featuring the Wilber James Blues Band! \nFree admission\, book online or call to reserve a table 905-934-1300. \nMonday Night Menu: The Confessional Lounge Jazz Night Menu
URL:https://spiritinniagara.com/event/monday-blooz-jazz-ft-wilber-james-blues-band-19/
LOCATION:Spirit in Niagara\, 458 Lakeshore Road\, Niagara-on-the-lake\, Ontario\, L0S1J0\, Canada
CATEGORIES:Live Music
END:VEVENT
BEGIN:VEVENT
DTSTART;TZID=America/Toronto:20231211T180000
DTEND;TZID=America/Toronto:20231211T200000
DTSTAMP:20260419T133641
CREATED:20230814T192447Z
LAST-MODIFIED:20231010T214830Z
UID:2131-1702317600-1702324800@spiritinniagara.com
SUMMARY:MONDAY BLOOZ & JAZZ FT. ON THE MARK JAZZ TRIO
DESCRIPTION:Grab your dancing shoes and head to SiN Monday night for jazz\, blues\, cocktails & food. \nSpirit in Niagara is proud to announce live music every Monday from 6pm-8pm \nFree admission\, book online or call to reserve a table 905-934-1300. \nMonday Night Menu: The Confessional Lounge Jazz Night Menu
URL:https://spiritinniagara.com/event/on-the-mark-jazz-trio-5/
LOCATION:Spirit in Niagara\, 458 Lakeshore Road\, Niagara-on-the-lake\, Ontario\, L0S1J0\, Canada
CATEGORIES:Live Music
END:VEVENT
BEGIN:VEVENT
DTSTART;TZID=America/Toronto:20231218T180000
DTEND;TZID=America/Toronto:20231218T200000
DTSTAMP:20260419T133641
CREATED:20230814T183151Z
LAST-MODIFIED:20240115T164031Z
UID:2113-1702922400-1702929600@spiritinniagara.com
SUMMARY:MONDAY BLOOZ & JAZZ FT. WILBER JAMES BLUES BAND
DESCRIPTION:Grab your dancing shoes and head to SiN Monday night for jazz\, blues\, cocktails & food. \nSpirit in Niagara is proud to feature live music EVERY Monday from 6pm-8pm. \nThis week we will be featuring the Wilber James Blues Band! \nFree admission\, book online or call to reserve a table 905-934-1300. \nMonday Night Menu: Blooz & Jazz Night Menu
URL:https://spiritinniagara.com/event/monday-blooz-jazz-ft-wilber-james-blues-band-18/
LOCATION:Spirit in Niagara\, 458 Lakeshore Road\, Niagara-on-the-lake\, Ontario\, L0S1J0\, Canada
CATEGORIES:Live Music
END:VEVENT
BEGIN:VEVENT
DTSTART;TZID=America/Toronto:20231228T170000
DTEND;TZID=America/Toronto:20231228T193000
DTSTAMP:20260419T133641
CREATED:20230510T182011Z
LAST-MODIFIED:20231222T215346Z
UID:2017-1703782800-1703791800@spiritinniagara.com
SUMMARY:THURSDAY NIGHT DELIGHT: ED PIZZO ON PIANO
DESCRIPTION:Attention all music lovers! \nGet ready for an unforgettable night of live piano music with the talented Ed Pizzo at Spirit in Niagara Distillery! \nJoin us every Thursday from 5pm to 7:30pm and let Ed’s magical tunes transport you to a world of timelessly beautiful melodies.\nPerfect accompaniment for our delicious Niagara cocktails and cuisine.\nSo mark your calendars and don’t miss out\, see you at Spirit in Niagara every Thursday!
URL:https://spiritinniagara.com/event/thursday-night-delight-ed-pizzo-on-piano-19/
LOCATION:Spirit in Niagara\, 458 Lakeshore Road\, Niagara-on-the-lake\, Ontario\, L0S1J0\, Canada
CATEGORIES:Live Music
END:VEVENT
BEGIN:VEVENT
DTSTART;TZID=America/Toronto:20231231T180000
DTEND;TZID=America/Toronto:20240101T000000
DTSTAMP:20260419T133641
CREATED:20231218T200513Z
LAST-MODIFIED:20231218T205400Z
UID:2231-1704045600-1704067200@spiritinniagara.com
SUMMARY:NEW YEAR'S EVE CELEBRATION 2023
DESCRIPTION:🎉 WE’RE ALMOST SOLD OUT! 🥳 \nJoin us for some incredible libations for this New Year’s Eve celebration! \nThe Confessional Lounge at Spirit in Niagara Small Batch Distillers is the hot spot for this New Year’s Eve. 🥂🍾 \nThis glorious evening includes a 6-course tasting menu\, champagne toast at midnight\, and a live performance by Wilber James Blues Band! \n$110 per adult with reservations available (on the half-hour) between 6:00 p.m. and 9:30 p.m. \nDon’t wait\, don’t hesitate. Seats are filling quickly! Feel free to stay until the ball drops! \n**PLEASE NOTE: Gratuities are NOT included in the ticket price.** \n  \nBOOK TICKETS HERE: new-years-eve-celebration-2023
URL:https://spiritinniagara.com/event/new-years-eve-celebration-2023/
LOCATION:Ontario
END:VEVENT
END:VCALENDAR