BEGIN:VCALENDAR
VERSION:2.0
PRODID:-//Spirit in Niagara - ECPv6.15.19//NONSGML v1.0//EN
CALSCALE:GREGORIAN
METHOD:PUBLISH
X-WR-CALNAME:Spirit in Niagara
X-ORIGINAL-URL:https://spiritinniagara.com
X-WR-CALDESC:Events for Spirit in Niagara
REFRESH-INTERVAL;VALUE=DURATION:PT1H
X-Robots-Tag:noindex
X-PUBLISHED-TTL:PT1H
BEGIN:VTIMEZONE
TZID:America/Toronto
BEGIN:DAYLIGHT
TZOFFSETFROM:-0500
TZOFFSETTO:-0400
TZNAME:EDT
DTSTART:20220313T070000
END:DAYLIGHT
BEGIN:STANDARD
TZOFFSETFROM:-0400
TZOFFSETTO:-0500
TZNAME:EST
DTSTART:20221106T060000
END:STANDARD
BEGIN:DAYLIGHT
TZOFFSETFROM:-0500
TZOFFSETTO:-0400
TZNAME:EDT
DTSTART:20230312T070000
END:DAYLIGHT
BEGIN:STANDARD
TZOFFSETFROM:-0400
TZOFFSETTO:-0500
TZNAME:EST
DTSTART:20231105T060000
END:STANDARD
BEGIN:DAYLIGHT
TZOFFSETFROM:-0500
TZOFFSETTO:-0400
TZNAME:EDT
DTSTART:20240310T070000
END:DAYLIGHT
BEGIN:STANDARD
TZOFFSETFROM:-0400
TZOFFSETTO:-0500
TZNAME:EST
DTSTART:20241103T060000
END:STANDARD
END:VTIMEZONE
BEGIN:VEVENT
DTSTART;TZID=America/Toronto:20231006T180000
DTEND;TZID=America/Toronto:20231006T200000
DTSTAMP:20260419T102627
CREATED:20230906T133742Z
LAST-MODIFIED:20230906T133742Z
UID:2161-1696615200-1696622400@spiritinniagara.com
SUMMARY:THE RENOWNED DRAGAN ON SAXOPHONE
DESCRIPTION:Join us for the smooth tunes of Dragan Veljkovic on Saxophone from 6pm – 8pm every Friday. No admission fee\, walk-ins welcome. \nLearn more about Dragan: https://dragansax.com/
URL:https://spiritinniagara.com/event/the-renowned-dragan-on-saxophone-6/
LOCATION:Spirit in Niagara\, 458 Lakeshore Road\, Niagara-on-the-lake\, Ontario\, L0S1J0\, Canada
CATEGORIES:Live Music
END:VEVENT
BEGIN:VEVENT
DTSTART;TZID=America/Toronto:20231007T110000
DTEND;TZID=America/Toronto:20231008T200000
DTSTAMP:20260419T102627
CREATED:20231003T195626Z
LAST-MODIFIED:20231003T201009Z
UID:2182-1696676400-1696795200@spiritinniagara.com
SUMMARY:Thanksgiving 2023
DESCRIPTION:Thanksgiving menu \n  \nJoin us for a fantastic family get-together\, this Saturday October 7th and Sunday October 8th for both lunch and dinner! We’re open at 11am \nTake-out is available\, pre-order at 905 934 1300 payment is required at time of booking. Check the link above for our menu
URL:https://spiritinniagara.com/event/thanksgiving-2023/
LOCATION:Ontario
END:VEVENT
BEGIN:VEVENT
DTSTART;TZID=America/Toronto:20231009T180000
DTEND;TZID=America/Toronto:20231009T200000
DTSTAMP:20260419T102627
CREATED:20230814T182739Z
LAST-MODIFIED:20230814T182739Z
UID:2105-1696874400-1696881600@spiritinniagara.com
SUMMARY:MONDAY BLOOZ & JAZZ FT. WILBER JAMES BLUES BAND
DESCRIPTION:Grab your dancing shoes and head to SiN Monday night for jazz\, blues\, cocktails & food. \nSpirit in Niagara is proud to announce live music EVERY Monday from 6pm-8pm. \nThis week we will be featuring the Wilber James Blues Band! \nFree admission\, book online or call to reserve a table 905-934-1300. \nMonday Night Menu: The Confessional Lounge Jazz Night Menu
URL:https://spiritinniagara.com/event/monday-blooz-jazz-ft-wilber-james-blues-band-14/
LOCATION:Spirit in Niagara\, 458 Lakeshore Road\, Niagara-on-the-lake\, Ontario\, L0S1J0\, Canada
CATEGORIES:Live Music
END:VEVENT
BEGIN:VEVENT
DTSTART;TZID=America/Toronto:20231013T180000
DTEND;TZID=America/Toronto:20231013T200000
DTSTAMP:20260419T102627
CREATED:20230906T165715Z
LAST-MODIFIED:20230906T165715Z
UID:2163-1697220000-1697227200@spiritinniagara.com
SUMMARY:THE RENOWNED DRAGAN ON SAXOPHONE
DESCRIPTION:Join us for the smooth tunes of Dragan Veljkovic on Saxophone from 6pm – 8pm every Friday. No admission fee\, walk-ins welcome. \nLearn more about Dragan: https://dragansax.com/
URL:https://spiritinniagara.com/event/the-renowned-dragan-on-saxophone-7/
LOCATION:Spirit in Niagara\, 458 Lakeshore Road\, Niagara-on-the-lake\, Ontario\, L0S1J0\, Canada
CATEGORIES:Live Music,SiNful Events
END:VEVENT
BEGIN:VEVENT
DTSTART;TZID=America/Toronto:20231016T180000
DTEND;TZID=America/Toronto:20231016T200000
DTSTAMP:20260419T102627
CREATED:20230814T184300Z
LAST-MODIFIED:20231012T142714Z
UID:2127-1697479200-1697486400@spiritinniagara.com
SUMMARY:MONDAY BLOOZ & JAZZ
DESCRIPTION:Grab your dancing shoes and head to SiN Monday night for jazz\, blues\, cocktails & food. \nSpirit in Niagara is proud to announce live music every Monday from 6pm-8pm \nFree admission\, book online or call to reserve a table 905-934-1300. \nMonday Night Menu: The Confessional Lounge Jazz Night Menu
URL:https://spiritinniagara.com/event/monday-blooz-jazz-ft-thomas-nelson-band-20/
LOCATION:Spirit in Niagara\, 458 Lakeshore Road\, Niagara-on-the-lake\, Ontario\, L0S1J0\, Canada
CATEGORIES:Live Music
END:VEVENT
BEGIN:VEVENT
DTSTART;TZID=America/Toronto:20231016T180000
DTEND;TZID=America/Toronto:20231016T200000
DTSTAMP:20260419T102627
CREATED:20231006T124204Z
LAST-MODIFIED:20231010T215555Z
UID:2197-1697479200-1697486400@spiritinniagara.com
SUMMARY:ON THE MARK JAZZ TRIO
DESCRIPTION:Join us every other Monday starting October 2nd @ 6pm for On The Mark Jazz Trio! \nOn the Mark is an instrumental jazz trio consisting of a pianist\, bass player and drummer. They all reside in the Niagara Region\, and have been performing together for over five years.
URL:https://spiritinniagara.com/event/on-the-mark-jazz-trio/
LOCATION:Ontario
END:VEVENT
BEGIN:VEVENT
DTSTART;TZID=America/Toronto:20231016T180000
DTEND;TZID=America/Toronto:20231016T200000
DTSTAMP:20260419T102627
CREATED:20231016T184226Z
LAST-MODIFIED:20231006T123410Z
UID:2125-1697479200-1697486400@spiritinniagara.com
SUMMARY:MONDAY BLOOZ & JAZZ
DESCRIPTION:Grab your dancing shoes and head to SiN Monday night for jazz\, blues\, cocktails & food. \nSpirit in Niagara is proud to announce live music every Monday from 6pm-8pm \nFree admission\, book online or call to reserve a table 905-934-1300. \nMonday Night Menu: The Confessional Lounge Jazz Night Menu
URL:https://spiritinniagara.com/event/monday-blooz-jazz-ft-on-the-mark-band/
LOCATION:Spirit in Niagara\, 458 Lakeshore Road\, Niagara-on-the-lake\, Ontario\, L0S1J0\, Canada
CATEGORIES:Live Music
END:VEVENT
BEGIN:VEVENT
DTSTART;TZID=America/Toronto:20231020T180000
DTEND;TZID=America/Toronto:20231020T200000
DTSTAMP:20260419T102627
CREATED:20230906T165753Z
LAST-MODIFIED:20230906T165753Z
UID:2165-1697824800-1697832000@spiritinniagara.com
SUMMARY:THE RENOWNED DRAGAN ON SAXOPHONE
DESCRIPTION:Join us for the smooth tunes of Dragan Veljkovic on Saxophone from 6pm – 8pm every Friday. No admission fee\, walk-ins welcome. \nLearn more about Dragan: https://dragansax.com/
URL:https://spiritinniagara.com/event/the-renowned-dragan-on-saxophone-8/
LOCATION:Spirit in Niagara\, 458 Lakeshore Road\, Niagara-on-the-lake\, Ontario\, L0S1J0\, Canada
CATEGORIES:Live Music
END:VEVENT
BEGIN:VEVENT
DTSTART;TZID=America/Toronto:20231023T180000
DTEND;TZID=America/Toronto:20231023T200000
DTSTAMP:20260419T102627
CREATED:20230814T182828Z
LAST-MODIFIED:20230814T182828Z
UID:2107-1698084000-1698091200@spiritinniagara.com
SUMMARY:MONDAY BLOOZ & JAZZ FT. WILBER JAMES BLUES BAND
DESCRIPTION:Grab your dancing shoes and head to SiN Monday night for jazz\, blues\, cocktails & food. \nSpirit in Niagara is proud to announce live music EVERY Monday from 6pm-8pm. \nThis week we will be featuring the Wilber James Blues Band! \nFree admission\, book online or call to reserve a table 905-934-1300. \nMonday Night Menu: The Confessional Lounge Jazz Night Menu
URL:https://spiritinniagara.com/event/monday-blooz-jazz-ft-wilber-james-blues-band-15/
LOCATION:Spirit in Niagara\, 458 Lakeshore Road\, Niagara-on-the-lake\, Ontario\, L0S1J0\, Canada
CATEGORIES:Live Music
END:VEVENT
BEGIN:VEVENT
DTSTART;TZID=America/Toronto:20231027T180000
DTEND;TZID=America/Toronto:20231027T200000
DTSTAMP:20260419T102627
CREATED:20230906T165833Z
LAST-MODIFIED:20230906T165833Z
UID:2167-1698429600-1698436800@spiritinniagara.com
SUMMARY:THE RENOWNED DRAGAN ON SAXOPHONE
DESCRIPTION:Join us for the smooth tunes of Dragan Veljkovic on Saxophone from 6pm – 8pm every Friday. No admission fee\, walk-ins welcome. \nLearn more about Dragan: https://dragansax.com/
URL:https://spiritinniagara.com/event/the-renowned-dragan-on-saxophone-9/
LOCATION:Spirit in Niagara\, 458 Lakeshore Road\, Niagara-on-the-lake\, Ontario\, L0S1J0\, Canada
CATEGORIES:Live Music
END:VEVENT
BEGIN:VEVENT
DTSTART;TZID=America/Toronto:20231028T190000
DTEND;TZID=America/Toronto:20231028T233000
DTSTAMP:20260419T102627
CREATED:20230912T192926Z
LAST-MODIFIED:20231016T171022Z
UID:2171-1698519600-1698535800@spiritinniagara.com
SUMMARY:Halloween Masquerade
DESCRIPTION:Join us on October’s full moon at Spirit in Niagara Distillery as we celebrate Halloween in one of Canada’s most haunted towns. Dress up in your favourite semi-formal masquerade outfit and have a frightening good evening of live music with spooky delicious themed cocktails and hors d’oeuvres. \n\nBest mask/costume will win a prize! \n*Dress code is in effect \n*Mask/Costume is required \n*Semi formal \nTickets are available for $80+HST. Tickets include live music\, food\, one complimentary drink and a ghoulish delicious gift from Rocky Mountain Chocolate.  \nFor more details and to purchase tickets\, please click the following link: https://www.niagaraonthelake.com/notl-halloween-masquerade2023
URL:https://spiritinniagara.com/event/halloween-masquerade/
LOCATION:Spirit in Niagara\, 458 Lakeshore Road\, Niagara-on-the-lake\, Ontario\, L0S1J0\, Canada
CATEGORIES:Holiday,SiNful Events
ORGANIZER;CN="Niagara on The Lake Tourism":MAILTO:kacey@spiritinniagara.com
END:VEVENT
BEGIN:VEVENT
DTSTART;TZID=America/Toronto:20231030T180000
DTEND;TZID=America/Toronto:20231030T200000
DTSTAMP:20260419T102627
CREATED:20230814T191943Z
LAST-MODIFIED:20231010T213513Z
UID:2129-1698688800-1698696000@spiritinniagara.com
SUMMARY:MONDAY BLOOZ & JAZZ FT. ON THE MARK JAZZ TRIO
DESCRIPTION:Grab your dancing shoes and head to SiN Monday night for jazz\, blues\, cocktails & food. \nSpirit in Niagara is proud to announce live music every Monday from 6pm-8pm \nFree admission\, book online or call to reserve a table 905-934-1300. \nMonday Night Menu: The Confessional Lounge Jazz Night Menu
URL:https://spiritinniagara.com/event/on-the-mark-jazz-trio-2/
LOCATION:Spirit in Niagara\, 458 Lakeshore Road\, Niagara-on-the-lake\, Ontario\, L0S1J0\, Canada
CATEGORIES:Live Music
END:VEVENT
END:VCALENDAR