BEGIN:VCALENDAR
VERSION:2.0
PRODID:-//Spirit in Niagara - ECPv6.15.19//NONSGML v1.0//EN
CALSCALE:GREGORIAN
METHOD:PUBLISH
X-WR-CALNAME:Spirit in Niagara
X-ORIGINAL-URL:https://spiritinniagara.com
X-WR-CALDESC:Events for Spirit in Niagara
REFRESH-INTERVAL;VALUE=DURATION:PT1H
X-Robots-Tag:noindex
X-PUBLISHED-TTL:PT1H
BEGIN:VTIMEZONE
TZID:America/Toronto
BEGIN:DAYLIGHT
TZOFFSETFROM:-0500
TZOFFSETTO:-0400
TZNAME:EDT
DTSTART:20220313T070000
END:DAYLIGHT
BEGIN:STANDARD
TZOFFSETFROM:-0400
TZOFFSETTO:-0500
TZNAME:EST
DTSTART:20221106T060000
END:STANDARD
BEGIN:DAYLIGHT
TZOFFSETFROM:-0500
TZOFFSETTO:-0400
TZNAME:EDT
DTSTART:20230312T070000
END:DAYLIGHT
BEGIN:STANDARD
TZOFFSETFROM:-0400
TZOFFSETTO:-0500
TZNAME:EST
DTSTART:20231105T060000
END:STANDARD
BEGIN:DAYLIGHT
TZOFFSETFROM:-0500
TZOFFSETTO:-0400
TZNAME:EDT
DTSTART:20240310T070000
END:DAYLIGHT
BEGIN:STANDARD
TZOFFSETFROM:-0400
TZOFFSETTO:-0500
TZNAME:EST
DTSTART:20241103T060000
END:STANDARD
END:VTIMEZONE
BEGIN:VEVENT
DTSTART;TZID=America/Toronto:20230403T180000
DTEND;TZID=America/Toronto:20230403T200000
DTSTAMP:20260419T084036
CREATED:20230221T181704Z
LAST-MODIFIED:20230510T190015Z
UID:1833-1680544800-1680552000@spiritinniagara.com
SUMMARY:Monday Blooz & Jazz Ft Thomas Nelson Band
DESCRIPTION:Grab your dancing shoes and head to SiN Monday night for jazz\, blues\, cocktails & food. \nSpirit in Niagara is proud to announce live music every Monday from 6pm-8pm featuring the Thomas Nelson Band! \nFree admission\, book online or call to reserve a table 905-934-1300. \nThe Confessional Lounge Jazz Night Menu
URL:https://spiritinniagara.com/event/monday-blooz-jazz-ft-thomas-nelson-band-6/
LOCATION:Spirit in Niagara\, 458 Lakeshore Road\, Niagara-on-the-lake\, Ontario\, L0S1J0\, Canada
CATEGORIES:Live Music
END:VEVENT
BEGIN:VEVENT
DTSTART;TZID=America/Toronto:20230409T140000
DTEND;TZID=America/Toronto:20230409T160000
DTSTAMP:20260419T084036
CREATED:20230402T151658Z
LAST-MODIFIED:20230402T151659Z
UID:1897-1681048800-1681056000@spiritinniagara.com
SUMMARY:Orchard Egg Hunt
DESCRIPTION:Join us for an interactive egg hunt in our peach orchard this Easter Sunday! Enjoy the sunshine with family and friends. It will be an afternoon of cocktails\, treats\, and friendly competition. \nTickets are $10.00 per participant. The admission cost includes a spirit sample and a sample of one of our three Easter cocktails for those who are 19+\, along with some chocolate treats for the youngsters! \nPrizes for the most eggs found include:\n– A complimentary cocktail\n– 15% off of any dine-in experience (excludes alcohol)\n– A Spirit in Niagara t-shirt
URL:https://spiritinniagara.com/event/orchard-egg-hunt/
LOCATION:Spirit in Niagara\, 458 Lakeshore Road\, Niagara-on-the-lake\, Ontario\, L0S1J0\, Canada
CATEGORIES:Holiday,SiNful Events
END:VEVENT
BEGIN:VEVENT
DTSTART;TZID=America/Toronto:20230410T180000
DTEND;TZID=America/Toronto:20230410T200000
DTSTAMP:20260419T084036
CREATED:20230402T150414Z
LAST-MODIFIED:20230402T151023Z
UID:1895-1681149600-1681156800@spiritinniagara.com
SUMMARY:Monday Blooz and Jazz Ft. Wilber James  Blues Band
DESCRIPTION:Grab your dancing shoes and head to SiN Monday night for jazz\, blues\, cocktails & food. \nSpirit in Niagara is proud to announce live music every Monday from 6pm-8pm. Join us Easter Monday for Wilber James Blues Band \nFree admission\, book online or call to reserve a table 905-934-1300.
URL:https://spiritinniagara.com/event/monday-blooz-and-jazz-ft-wilber-james-blues-band/
LOCATION:Spirit in Niagara\, 458 Lakeshore Road\, Niagara-on-the-lake\, Ontario\, L0S1J0\, Canada
CATEGORIES:Live Music
END:VEVENT
BEGIN:VEVENT
DTSTART;TZID=America/Toronto:20230413T170000
DTEND;TZID=America/Toronto:20230413T193000
DTSTAMP:20260419T084036
CREATED:20230210T170411Z
LAST-MODIFIED:20230510T184641Z
UID:1808-1681405200-1681414200@spiritinniagara.com
SUMMARY:Ed Pizzo on Piano
DESCRIPTION:A local delight every Thursday night! Join us for the soulful tunes of Niagara legend Ed Pizzo on the baby grand piano! 5-7:30pm every Thursday\, no tickets necessary. 🎹
URL:https://spiritinniagara.com/event/ed-pizzo-on-piano-8/
LOCATION:Spirit in Niagara\, 458 Lakeshore Road\, Niagara-on-the-lake\, Ontario\, L0S1J0\, Canada
CATEGORIES:Live Music
END:VEVENT
BEGIN:VEVENT
DTSTART;TZID=America/Toronto:20230417T180000
DTEND;TZID=America/Toronto:20230417T200000
DTSTAMP:20260419T084036
CREATED:20230221T192040Z
LAST-MODIFIED:20230510T190009Z
UID:1837-1681754400-1681761600@spiritinniagara.com
SUMMARY:Monday Blooz & Jazz Ft. Thomas Nelson Band
DESCRIPTION:Grab your dancing shoes and head to SiN Monday night for jazz\, blues\, cocktails & food. \nSpirit in Niagara is proud to announce live music every Monday from 6pm-8pm featuring the Thomas Nelson Band! \nFree admission\, book online or call to reserve a table 905-934-1300.
URL:https://spiritinniagara.com/event/monday-blooz-jazz-ft-thomas-nelson-band-7/
LOCATION:Spirit in Niagara\, 458 Lakeshore Road\, Niagara-on-the-lake\, Ontario\, L0S1J0\, Canada
CATEGORIES:Live Music
END:VEVENT
BEGIN:VEVENT
DTSTART;TZID=America/Toronto:20230424T180000
DTEND;TZID=America/Toronto:20230424T200000
DTSTAMP:20260419T084036
CREATED:20230414T184051Z
LAST-MODIFIED:20230414T184051Z
UID:1907-1682359200-1682366400@spiritinniagara.com
SUMMARY:MONDAY BLOOZ AND JAZZ FT WILBER JAMES BLUES BAND
DESCRIPTION:Grab your dancing shoes and head to SiN Monday night for jazz\, blues\, cocktails & food. \nSpirit in Niagara is proud to announce live music EVERY Monday from 6pm-8pm. \nThis week we will be featuring the Wilber James Blues Band! \nFree admission\, book online or call to reserve a table 905-934-1300.
URL:https://spiritinniagara.com/event/monday-blooz-and-jazz-ft-wilber-james-blues-band-2/
LOCATION:Spirit in Niagara\, 458 Lakeshore Road\, Niagara-on-the-lake\, Ontario\, L0S1J0\, Canada
CATEGORIES:Live Music
END:VEVENT
END:VCALENDAR