BEGIN:VCALENDAR
VERSION:2.0
PRODID:-//Spirit in Niagara - ECPv6.15.20//NONSGML v1.0//EN
CALSCALE:GREGORIAN
METHOD:PUBLISH
X-WR-CALNAME:Spirit in Niagara
X-ORIGINAL-URL:https://spiritinniagara.com
X-WR-CALDESC:Events for Spirit in Niagara
REFRESH-INTERVAL;VALUE=DURATION:PT1H
X-Robots-Tag:noindex
X-PUBLISHED-TTL:PT1H
BEGIN:VTIMEZONE
TZID:America/Toronto
BEGIN:DAYLIGHT
TZOFFSETFROM:-0500
TZOFFSETTO:-0400
TZNAME:EDT
DTSTART:20220313T070000
END:DAYLIGHT
BEGIN:STANDARD
TZOFFSETFROM:-0400
TZOFFSETTO:-0500
TZNAME:EST
DTSTART:20221106T060000
END:STANDARD
BEGIN:DAYLIGHT
TZOFFSETFROM:-0500
TZOFFSETTO:-0400
TZNAME:EDT
DTSTART:20230312T070000
END:DAYLIGHT
BEGIN:STANDARD
TZOFFSETFROM:-0400
TZOFFSETTO:-0500
TZNAME:EST
DTSTART:20231105T060000
END:STANDARD
BEGIN:DAYLIGHT
TZOFFSETFROM:-0500
TZOFFSETTO:-0400
TZNAME:EDT
DTSTART:20240310T070000
END:DAYLIGHT
BEGIN:STANDARD
TZOFFSETFROM:-0400
TZOFFSETTO:-0500
TZNAME:EST
DTSTART:20241103T060000
END:STANDARD
END:VTIMEZONE
BEGIN:VEVENT
DTSTART;TZID=America/Toronto:20230708T170000
DTEND;TZID=America/Toronto:20230708T200000
DTSTAMP:20260420T005722
CREATED:20230414T195442Z
LAST-MODIFIED:20230510T184842Z
UID:1925-1688835600-1688846400@spiritinniagara.com
SUMMARY:SUMMER OF SiN MUSIC SERIES: THOMAS NELSON BAND
DESCRIPTION:Join us on the patio Saturday July 8th for some cocktails\, cuisine and summer tunes featuring trio Thomas Nelson Band!
URL:https://spiritinniagara.com/event/summer-of-sin-music-series-thomas-nelson-band/
LOCATION:Spirit in Niagara\, 458 Lakeshore Road\, Niagara-on-the-lake\, Ontario\, L0S1J0\, Canada
CATEGORIES:Live Music
END:VEVENT
BEGIN:VEVENT
DTSTART;TZID=America/Toronto:20230710T180000
DTEND;TZID=America/Toronto:20230710T200000
DTSTAMP:20260420T005722
CREATED:20230414T200553Z
LAST-MODIFIED:20230510T184803Z
UID:1939-1689012000-1689019200@spiritinniagara.com
SUMMARY:MONDAY BLOOZ & JAZZ FT. THOMAS NELSON BAND
DESCRIPTION:Grab your dancing shoes and head to SiN Monday night for jazz\, blues\, cocktails & food. \nSpirit in Niagara is proud to announce live music every Monday from 6pm-8pm\, this week featuring the Thomas Nelson Band! \nFree admission\, book online or call to reserve a table 905-934-1300. \nThe Confessional Lounge Jazz Night Menu
URL:https://spiritinniagara.com/event/monday-blooz-jazz-ft-thomas-nelson-band-14/
LOCATION:Spirit in Niagara\, 458 Lakeshore Road\, Niagara-on-the-lake\, Ontario\, L0S1J0\, Canada
CATEGORIES:Live Music
END:VEVENT
BEGIN:VEVENT
DTSTART;TZID=America/Toronto:20230713T170000
DTEND;TZID=America/Toronto:20230713T193000
DTSTAMP:20260420T005722
CREATED:20230510T180327Z
LAST-MODIFIED:20230510T184315Z
UID:2003-1689267600-1689276600@spiritinniagara.com
SUMMARY:THURSDAY NIGHT DELIGHT: ED PIZZO ON PIANO
DESCRIPTION:Attention all music lovers! \nGet ready for an unforgettable night of live piano music with the talented Ed Pizzo at Spirit in Niagara Distillery! \nJoin us every Thursday from 5pm to 7:30pm and let Ed’s magical tunes transport you to a world of timelessly beautiful melodies.\nPerfect accompaniment for our delicious Niagara cocktails and cuisine.\nSo mark your calendars and don’t miss out\, see you at Spirit in Niagara every Thursday!
URL:https://spiritinniagara.com/event/thursday-night-delight-ed-pizzo-on-piano-12/
LOCATION:Spirit in Niagara\, 458 Lakeshore Road\, Niagara-on-the-lake\, Ontario\, L0S1J0\, Canada
CATEGORIES:Live Music
END:VEVENT
BEGIN:VEVENT
DTSTART;TZID=America/Toronto:20230717T180000
DTEND;TZID=America/Toronto:20230717T200000
DTSTAMP:20260420T005722
CREATED:20230510T160354Z
LAST-MODIFIED:20230510T190248Z
UID:1971-1689616800-1689624000@spiritinniagara.com
SUMMARY:MONDAY BLOOZ & JAZZ FT. WILBER JAMES BLUES BAND
DESCRIPTION:Grab your dancing shoes and head to SiN Monday night for jazz\, blues\, cocktails & food. \nSpirit in Niagara is proud to announce live music EVERY Monday from 6pm-8pm. \nThis week we will be featuring the Wilber James Blues Band! \nFree admission\, book online or call to reserve a table 905-934-1300.
URL:https://spiritinniagara.com/event/monday-blooz-jazz-ft-wilber-james-blues-band-9/
LOCATION:Spirit in Niagara\, 458 Lakeshore Road\, Niagara-on-the-lake\, Ontario\, L0S1J0\, Canada
CATEGORIES:Live Music
END:VEVENT
BEGIN:VEVENT
DTSTART;TZID=America/Toronto:20230720T170000
DTEND;TZID=America/Toronto:20230720T193000
DTSTAMP:20260420T005722
CREATED:20230510T180423Z
LAST-MODIFIED:20230510T184305Z
UID:2005-1689872400-1689881400@spiritinniagara.com
SUMMARY:THURSDAY NIGHT DELIGHT: ED PIZZO ON PIANO
DESCRIPTION:Attention all music lovers! \nGet ready for an unforgettable night of live piano music with the talented Ed Pizzo at Spirit in Niagara Distillery! \nJoin us every Thursday from 5pm to 7:30pm and let Ed’s magical tunes transport you to a world of timelessly beautiful melodies.\nPerfect accompaniment for our delicious Niagara cocktails and cuisine.\nSo mark your calendars and don’t miss out\, see you at Spirit in Niagara every Thursday!
URL:https://spiritinniagara.com/event/thursday-night-delight-ed-pizzo-on-piano-13/
LOCATION:Spirit in Niagara\, 458 Lakeshore Road\, Niagara-on-the-lake\, Ontario\, L0S1J0\, Canada
CATEGORIES:Live Music
END:VEVENT
BEGIN:VEVENT
DTSTART;TZID=America/Toronto:20230724T180000
DTEND;TZID=America/Toronto:20230724T200000
DTSTAMP:20260420T005722
CREATED:20230414T200641Z
LAST-MODIFIED:20230607T201522Z
UID:1941-1690221600-1690228800@spiritinniagara.com
SUMMARY:MONDAY BLOOZ & JAZZ FT. THOMAS NELSON BAND
DESCRIPTION:Grab your dancing shoes and head to SiN Monday night for jazz\, blues\, cocktails & food. \nSpirit in Niagara is proud to announce live music every Monday from 6pm-8pm\, this week featuring the Thomas Nelson Band! \nFree admission\, book online or call to reserve a table 905-934-1300. \nMonday Night Menu: The Confessional Lounge Jazz Night Menu
URL:https://spiritinniagara.com/event/monday-blooz-jazz-ft-thomas-nelson-band-15/
LOCATION:Spirit in Niagara\, 458 Lakeshore Road\, Niagara-on-the-lake\, Ontario\, L0S1J0\, Canada
CATEGORIES:Live Music
END:VEVENT
BEGIN:VEVENT
DTSTART;TZID=America/Toronto:20230727T170000
DTEND;TZID=America/Toronto:20230727T193000
DTSTAMP:20260420T005722
CREATED:20230510T180600Z
LAST-MODIFIED:20230510T184257Z
UID:2007-1690477200-1690486200@spiritinniagara.com
SUMMARY:THURSDAY NIGHT DELIGHT: ED PIZZO ON PIANO
DESCRIPTION:Attention all music lovers! \nGet ready for an unforgettable night of live piano music with the talented Ed Pizzo at Spirit in Niagara Distillery! \nJoin us every Thursday from 5pm to 7:30pm and let Ed’s magical tunes transport you to a world of timelessly beautiful melodies.\nPerfect accompaniment for our delicious Niagara cocktails and cuisine.\nSo mark your calendars and don’t miss out\, see you at Spirit in Niagara every Thursday!
URL:https://spiritinniagara.com/event/thursday-night-delight-ed-pizzo-on-piano-14/
LOCATION:Spirit in Niagara\, 458 Lakeshore Road\, Niagara-on-the-lake\, Ontario\, L0S1J0\, Canada
CATEGORIES:Live Music
END:VEVENT
BEGIN:VEVENT
DTSTART;TZID=America/Toronto:20230731T180000
DTEND;TZID=America/Toronto:20230731T200000
DTSTAMP:20260420T005722
CREATED:20230510T160913Z
LAST-MODIFIED:20230607T200920Z
UID:1973-1690826400-1690833600@spiritinniagara.com
SUMMARY:MONDAY BLOOZ & JAZZ FT. WILBER JAMES BLUES BAND
DESCRIPTION:Grab your dancing shoes and head to SiN Monday night for jazz\, blues\, cocktails & food. \nSpirit in Niagara is proud to announce live music EVERY Monday from 6pm-8pm. \nThis week we will be featuring the Wilber James Blues Band! \nFree admission\, book online or call to reserve a table 905-934-1300. \nMonday Night Menu: The Confessional Lounge Jazz Night Menu
URL:https://spiritinniagara.com/event/monday-blooz-jazz-ft-wilber-james-blues-band-10/
LOCATION:Spirit in Niagara\, 458 Lakeshore Road\, Niagara-on-the-lake\, Ontario\, L0S1J0\, Canada
CATEGORIES:Live Music
END:VEVENT
BEGIN:VEVENT
DTSTART;TZID=America/Toronto:20230803T170000
DTEND;TZID=America/Toronto:20230803T193000
DTSTAMP:20260420T005722
CREATED:20230510T181009Z
LAST-MODIFIED:20230510T184244Z
UID:2009-1691082000-1691091000@spiritinniagara.com
SUMMARY:THURSDAY NIGHT DELIGHT: ED PIZZO ON PIANO
DESCRIPTION:Attention all music lovers! \nGet ready for an unforgettable night of live piano music with the talented Ed Pizzo at Spirit in Niagara Distillery! \nJoin us every Thursday from 5pm to 7:30pm and let Ed’s magical tunes transport you to a world of timelessly beautiful melodies.\nPerfect accompaniment for our delicious Niagara cocktails and cuisine.\nSo mark your calendars and don’t miss out\, see you at Spirit in Niagara every Thursday!
URL:https://spiritinniagara.com/event/thursday-night-delight-ed-pizzo-on-piano-15/
LOCATION:Spirit in Niagara\, 458 Lakeshore Road\, Niagara-on-the-lake\, Ontario\, L0S1J0\, Canada
CATEGORIES:Live Music
END:VEVENT
BEGIN:VEVENT
DTSTART;TZID=America/Toronto:20230810T170000
DTEND;TZID=America/Toronto:20230810T193000
DTSTAMP:20260420T005722
CREATED:20230510T181658Z
LAST-MODIFIED:20230510T184233Z
UID:2011-1691686800-1691695800@spiritinniagara.com
SUMMARY:THURSDAY NIGHT DELIGHT: ED PIZZO ON PIANO
DESCRIPTION:Attention all music lovers! \nGet ready for an unforgettable night of live piano music with the talented Ed Pizzo at Spirit in Niagara Distillery! \nJoin us every Thursday from 5pm to 7:30pm and let Ed’s magical tunes transport you to a world of timelessly beautiful melodies.\nPerfect accompaniment for our delicious Niagara cocktails and cuisine.\nSo mark your calendars and don’t miss out\, see you at Spirit in Niagara every Thursday!
URL:https://spiritinniagara.com/event/thursday-night-delight-ed-pizzo-on-piano-16/
LOCATION:Spirit in Niagara\, 458 Lakeshore Road\, Niagara-on-the-lake\, Ontario\, L0S1J0\, Canada
CATEGORIES:Live Music
END:VEVENT
BEGIN:VEVENT
DTSTART;TZID=America/Toronto:20230814T180000
DTEND;TZID=America/Toronto:20230814T200000
DTSTAMP:20260420T005722
CREATED:20230510T162653Z
LAST-MODIFIED:20230607T201112Z
UID:1975-1692036000-1692043200@spiritinniagara.com
SUMMARY:MONDAY BLOOZ & JAZZ FT. WILBER JAMES BLUES BAND
DESCRIPTION:Grab your dancing shoes and head to SiN Monday night for jazz\, blues\, cocktails & food. \nSpirit in Niagara is proud to announce live music EVERY Monday from 6pm-8pm. \nThis week we will be featuring the Wilber James Blues Band! \nFree admission\, book online or call to reserve a table 905-934-1300. \nMonday Night Menu: The Confessional Lounge Jazz Night Menu
URL:https://spiritinniagara.com/event/monday-blooz-jazz-ft-wilber-james-blues-band-11/
LOCATION:Spirit in Niagara\, 458 Lakeshore Road\, Niagara-on-the-lake\, Ontario\, L0S1J0\, Canada
CATEGORIES:Live Music
END:VEVENT
BEGIN:VEVENT
DTSTART;TZID=America/Toronto:20230817T170000
DTEND;TZID=America/Toronto:20230817T193000
DTSTAMP:20260420T005722
CREATED:20230510T181756Z
LAST-MODIFIED:20230510T184225Z
UID:2013-1692291600-1692300600@spiritinniagara.com
SUMMARY:THURSDAY NIGHT DELIGHT: ED PIZZO ON PIANO
DESCRIPTION:Attention all music lovers! \nGet ready for an unforgettable night of live piano music with the talented Ed Pizzo at Spirit in Niagara Distillery! \nJoin us every Thursday from 5pm to 7:30pm and let Ed’s magical tunes transport you to a world of timelessly beautiful melodies.\nPerfect accompaniment for our delicious Niagara cocktails and cuisine.\nSo mark your calendars and don’t miss out\, see you at Spirit in Niagara every Thursday!
URL:https://spiritinniagara.com/event/thursday-night-delight-ed-pizzo-on-piano-17/
LOCATION:Spirit in Niagara\, 458 Lakeshore Road\, Niagara-on-the-lake\, Ontario\, L0S1J0\, Canada
CATEGORIES:Live Music
END:VEVENT
BEGIN:VEVENT
DTSTART;TZID=America/Toronto:20230821T180000
DTEND;TZID=America/Toronto:20230821T200000
DTSTAMP:20260420T005722
CREATED:20230814T183612Z
LAST-MODIFIED:20230814T183612Z
UID:2118-1692640800-1692648000@spiritinniagara.com
SUMMARY:MONDAY BLOOZ & JAZZ FT. THOMAS NELSON BAND
DESCRIPTION:Grab your dancing shoes and head to SiN Monday night for jazz\, blues\, cocktails & food. \nSpirit in Niagara is proud to announce live music every Monday from 6pm-8pm\, this week featuring the Thomas Nelson Band! \nFree admission\, book online or call to reserve a table 905-934-1300. \nMonday Night Menu: The Confessional Lounge Jazz Night Menu
URL:https://spiritinniagara.com/event/monday-blooz-jazz-ft-thomas-nelson-band-9/
LOCATION:Spirit in Niagara\, 458 Lakeshore Road\, Niagara-on-the-lake\, Ontario\, L0S1J0\, Canada
CATEGORIES:Live Music
END:VEVENT
BEGIN:VEVENT
DTSTART;TZID=America/Toronto:20230824T170000
DTEND;TZID=America/Toronto:20230824T193000
DTSTAMP:20260420T005722
CREATED:20230510T181903Z
LAST-MODIFIED:20230510T184213Z
UID:2015-1692896400-1692905400@spiritinniagara.com
SUMMARY:THURSDAY NIGHT DELIGHT: ED PIZZO ON PIANO
DESCRIPTION:Attention all music lovers! \nGet ready for an unforgettable night of live piano music with the talented Ed Pizzo at Spirit in Niagara Distillery! \nJoin us every Thursday from 5pm to 7:30pm and let Ed’s magical tunes transport you to a world of timelessly beautiful melodies.\nPerfect accompaniment for our delicious Niagara cocktails and cuisine.\nSo mark your calendars and don’t miss out\, see you at Spirit in Niagara every Thursday!
URL:https://spiritinniagara.com/event/thursday-night-delight-ed-pizzo-on-piano-18/
LOCATION:Spirit in Niagara\, 458 Lakeshore Road\, Niagara-on-the-lake\, Ontario\, L0S1J0\, Canada
CATEGORIES:Live Music
END:VEVENT
BEGIN:VEVENT
DTSTART;TZID=America/Toronto:20230828T180000
DTEND;TZID=America/Toronto:20230828T200000
DTSTAMP:20260420T005722
CREATED:20230510T162815Z
LAST-MODIFIED:20230607T200611Z
UID:1977-1693245600-1693252800@spiritinniagara.com
SUMMARY:MONDAY BLOOZ & JAZZ FT. WILBER JAMES BLUES BAND
DESCRIPTION:Grab your dancing shoes and head to SiN Monday night for jazz\, blues\, cocktails & food. \nSpirit in Niagara is proud to announce live music EVERY Monday from 6pm-8pm. \nThis week we will be featuring the Wilber James Blues Band! \nFree admission\, book online or call to reserve a table 905-934-1300. \nMonday Night Menu: The Confessional Lounge Jazz Night Menu
URL:https://spiritinniagara.com/event/monday-blooz-jazz-ft-wilber-james-blues-band-12/
LOCATION:Spirit in Niagara\, 458 Lakeshore Road\, Niagara-on-the-lake\, Ontario\, L0S1J0\, Canada
CATEGORIES:Live Music
END:VEVENT
BEGIN:VEVENT
DTSTART;TZID=America/Toronto:20230904T180000
DTEND;TZID=America/Toronto:20230904T200000
DTSTAMP:20260420T005722
CREATED:20230814T183701Z
LAST-MODIFIED:20230814T183701Z
UID:2120-1693850400-1693857600@spiritinniagara.com
SUMMARY:MONDAY BLOOZ & JAZZ FT. THOMAS NELSON BAND
DESCRIPTION:Grab your dancing shoes and head to SiN Monday night for jazz\, blues\, cocktails & food. \nSpirit in Niagara is proud to announce live music every Monday from 6pm-8pm\, this week featuring the Thomas Nelson Band! \nFree admission\, book online or call to reserve a table 905-934-1300. \nMonday Night Menu: The Confessional Lounge Jazz Night Menu
URL:https://spiritinniagara.com/event/monday-blooz-jazz-ft-thomas-nelson-band-11/
LOCATION:Spirit in Niagara\, 458 Lakeshore Road\, Niagara-on-the-lake\, Ontario\, L0S1J0\, Canada
CATEGORIES:Live Music
END:VEVENT
BEGIN:VEVENT
DTSTART;TZID=America/Toronto:20230907T170000
DTEND;TZID=America/Toronto:20230907T193000
DTSTAMP:20260420T005722
CREATED:20230510T182413Z
LAST-MODIFIED:20230510T184033Z
UID:2019-1694106000-1694115000@spiritinniagara.com
SUMMARY:THURSDAY NIGHT DELIGHT: ED PIZZO ON PIANO
DESCRIPTION:Attention all music lovers! \nGet ready for an unforgettable night of live piano music with the talented Ed Pizzo at Spirit in Niagara Distillery! \nJoin us every Thursday from 5pm to 7:30pm and let Ed’s magical tunes transport you to a world of timelessly beautiful melodies.\nPerfect accompaniment for our delicious Niagara cocktails and cuisine.\nSo mark your calendars and don’t miss out\, see you at Spirit in Niagara every Thursday!
URL:https://spiritinniagara.com/event/thursday-night-delight-ed-pizzo-on-piano-20/
LOCATION:Spirit in Niagara\, 458 Lakeshore Road\, Niagara-on-the-lake\, Ontario\, L0S1J0\, Canada
CATEGORIES:Live Music
END:VEVENT
BEGIN:VEVENT
DTSTART;TZID=America/Toronto:20230908T180000
DTEND;TZID=America/Toronto:20230908T200000
DTSTAMP:20260420T005722
CREATED:20230906T132412Z
LAST-MODIFIED:20230906T132412Z
UID:2153-1694196000-1694203200@spiritinniagara.com
SUMMARY:The Renowned Dragan on Saxophone
DESCRIPTION:Spirit in Niagara is proud to announce Dragan on Saxophone every Friday night from 6pm – 8pm. No admission fee\, walk-ins welcome. \nLearn more about Dragan: https://dragansax.com/
URL:https://spiritinniagara.com/event/the-renowned-dragan-on-saxophone-2/
LOCATION:Spirit in Niagara\, 458 Lakeshore Road\, Niagara-on-the-lake\, Ontario\, L0S1J0\, Canada
CATEGORIES:Live Music
END:VEVENT
BEGIN:VEVENT
DTSTART;TZID=America/Toronto:20230911T180000
DTEND;TZID=America/Toronto:20230911T200000
DTSTAMP:20260420T005722
CREATED:20230814T182523Z
LAST-MODIFIED:20230814T182523Z
UID:2101-1694455200-1694462400@spiritinniagara.com
SUMMARY:Monday Blooz and Jazz Ft. Wilber James Blues Band
DESCRIPTION:Grab your dancing shoes and head to SiN Monday night for jazz\, blues\, cocktails & food. \nSpirit in Niagara is proud to announce live music EVERY Monday from 6pm-8pm. \nThis week we will be featuring the Wilber James Blues Band! \nFree admission\, book online or call to reserve a table 905-934-1300. \nMonday Night Menu: The Confessional Lounge Jazz Night Menu
URL:https://spiritinniagara.com/event/monday-blooz-and-jazz-ft-wilber-james-blues-band-3/
LOCATION:Spirit in Niagara\, 458 Lakeshore Road\, Niagara-on-the-lake\, Ontario\, L0S1J0\, Canada
CATEGORIES:Live Music
END:VEVENT
BEGIN:VEVENT
DTSTART;TZID=America/Toronto:20230915T180000
DTEND;TZID=America/Toronto:20230915T200000
DTSTAMP:20260420T005722
CREATED:20230906T132614Z
LAST-MODIFIED:20230906T132614Z
UID:2155-1694800800-1694808000@spiritinniagara.com
SUMMARY:The Renowned Dragan on Saxophone
DESCRIPTION:Join us for the smooth tunes of Dragan Veljkovic on Saxophone from 6pm – 8pm every Friday. No admission fee\, walk-ins welcome. \nLearn more about Dragan: https://dragansax.com/
URL:https://spiritinniagara.com/event/the-renowned-dragan-on-saxophone-3/
LOCATION:Spirit in Niagara\, 458 Lakeshore Road\, Niagara-on-the-lake\, Ontario\, L0S1J0\, Canada
CATEGORIES:Live Music
END:VEVENT
BEGIN:VEVENT
DTSTART;TZID=America/Toronto:20230918T180000
DTEND;TZID=America/Toronto:20230918T200000
DTSTAMP:20260420T005722
CREATED:20230814T184102Z
LAST-MODIFIED:20230814T184102Z
UID:2122-1695060000-1695067200@spiritinniagara.com
SUMMARY:MONDAY BLOOZ & JAZZ FT. THOMAS NELSON BAND
DESCRIPTION:Grab your dancing shoes and head to SiN Monday night for jazz\, blues\, cocktails & food. \nSpirit in Niagara is proud to announce live music every Monday from 6pm-8pm\, this week featuring the Thomas Nelson Band! \nFree admission\, book online or call to reserve a table 905-934-1300. \nMonday Night Menu: The Confessional Lounge Jazz Night Menu
URL:https://spiritinniagara.com/event/monday-blooz-jazz-ft-thomas-nelson-band-18/
LOCATION:Spirit in Niagara\, 458 Lakeshore Road\, Niagara-on-the-lake\, Ontario\, L0S1J0\, Canada
CATEGORIES:Live Music
END:VEVENT
BEGIN:VEVENT
DTSTART;TZID=America/Toronto:20230922T180000
DTEND;TZID=America/Toronto:20230922T200000
DTSTAMP:20260420T005722
CREATED:20230906T132704Z
LAST-MODIFIED:20230906T132704Z
UID:2157-1695405600-1695412800@spiritinniagara.com
SUMMARY:The Renowned Dragan on Saxophone
DESCRIPTION:Join us for the smooth tunes of Dragan Veljkovic on Saxophone from 6pm – 8pm every Friday. No admission fee\, walk-ins welcome. \nLearn more about Dragan: https://dragansax.com/
URL:https://spiritinniagara.com/event/the-renowned-dragan-on-saxophone-4/
LOCATION:Spirit in Niagara\, 458 Lakeshore Road\, Niagara-on-the-lake\, Ontario\, L0S1J0\, Canada
CATEGORIES:Live Music
END:VEVENT
BEGIN:VEVENT
DTSTART;TZID=America/Toronto:20230925T180000
DTEND;TZID=America/Toronto:20230925T200000
DTSTAMP:20260420T005722
CREATED:20230814T182656Z
LAST-MODIFIED:20230814T182656Z
UID:2103-1695664800-1695672000@spiritinniagara.com
SUMMARY:MONDAY BLOOZ & JAZZ FT. WILBER JAMES BLUES BAND
DESCRIPTION:Grab your dancing shoes and head to SiN Monday night for jazz\, blues\, cocktails & food. \nSpirit in Niagara is proud to announce live music EVERY Monday from 6pm-8pm. \nThis week we will be featuring the Wilber James Blues Band! \nFree admission\, book online or call to reserve a table 905-934-1300. \nMonday Night Menu: The Confessional Lounge Jazz Night Menu \n 
URL:https://spiritinniagara.com/event/monday-blooz-jazz-ft-wilber-james-blues-band-13/
LOCATION:Spirit in Niagara\, 458 Lakeshore Road\, Niagara-on-the-lake\, Ontario\, L0S1J0\, Canada
CATEGORIES:Live Music
END:VEVENT
BEGIN:VEVENT
DTSTART;TZID=America/Toronto:20230929T180000
DTEND;TZID=America/Toronto:20230929T200000
DTSTAMP:20260420T005722
CREATED:20230906T132751Z
LAST-MODIFIED:20230906T132751Z
UID:2159-1696010400-1696017600@spiritinniagara.com
SUMMARY:The Renowned Dragan on Saxophone
DESCRIPTION:Join us for the smooth tunes of Dragan Veljkovic on Saxophone from 6pm – 8pm every Friday. No admission fee\, walk-ins welcome. \nLearn more about Dragan: https://dragansax.com/
URL:https://spiritinniagara.com/event/the-renowned-dragan-on-saxophone-5/
LOCATION:Spirit in Niagara\, 458 Lakeshore Road\, Niagara-on-the-lake\, Ontario\, L0S1J0\, Canada
CATEGORIES:Live Music
END:VEVENT
BEGIN:VEVENT
DTSTART;TZID=America/Toronto:20231006T180000
DTEND;TZID=America/Toronto:20231006T200000
DTSTAMP:20260420T005722
CREATED:20230906T133742Z
LAST-MODIFIED:20230906T133742Z
UID:2161-1696615200-1696622400@spiritinniagara.com
SUMMARY:THE RENOWNED DRAGAN ON SAXOPHONE
DESCRIPTION:Join us for the smooth tunes of Dragan Veljkovic on Saxophone from 6pm – 8pm every Friday. No admission fee\, walk-ins welcome. \nLearn more about Dragan: https://dragansax.com/
URL:https://spiritinniagara.com/event/the-renowned-dragan-on-saxophone-6/
LOCATION:Spirit in Niagara\, 458 Lakeshore Road\, Niagara-on-the-lake\, Ontario\, L0S1J0\, Canada
CATEGORIES:Live Music
END:VEVENT
BEGIN:VEVENT
DTSTART;TZID=America/Toronto:20231009T180000
DTEND;TZID=America/Toronto:20231009T200000
DTSTAMP:20260420T005722
CREATED:20230814T182739Z
LAST-MODIFIED:20230814T182739Z
UID:2105-1696874400-1696881600@spiritinniagara.com
SUMMARY:MONDAY BLOOZ & JAZZ FT. WILBER JAMES BLUES BAND
DESCRIPTION:Grab your dancing shoes and head to SiN Monday night for jazz\, blues\, cocktails & food. \nSpirit in Niagara is proud to announce live music EVERY Monday from 6pm-8pm. \nThis week we will be featuring the Wilber James Blues Band! \nFree admission\, book online or call to reserve a table 905-934-1300. \nMonday Night Menu: The Confessional Lounge Jazz Night Menu
URL:https://spiritinniagara.com/event/monday-blooz-jazz-ft-wilber-james-blues-band-14/
LOCATION:Spirit in Niagara\, 458 Lakeshore Road\, Niagara-on-the-lake\, Ontario\, L0S1J0\, Canada
CATEGORIES:Live Music
END:VEVENT
BEGIN:VEVENT
DTSTART;TZID=America/Toronto:20231013T180000
DTEND;TZID=America/Toronto:20231013T200000
DTSTAMP:20260420T005722
CREATED:20230906T165715Z
LAST-MODIFIED:20230906T165715Z
UID:2163-1697220000-1697227200@spiritinniagara.com
SUMMARY:THE RENOWNED DRAGAN ON SAXOPHONE
DESCRIPTION:Join us for the smooth tunes of Dragan Veljkovic on Saxophone from 6pm – 8pm every Friday. No admission fee\, walk-ins welcome. \nLearn more about Dragan: https://dragansax.com/
URL:https://spiritinniagara.com/event/the-renowned-dragan-on-saxophone-7/
LOCATION:Spirit in Niagara\, 458 Lakeshore Road\, Niagara-on-the-lake\, Ontario\, L0S1J0\, Canada
CATEGORIES:Live Music,SiNful Events
END:VEVENT
BEGIN:VEVENT
DTSTART;TZID=America/Toronto:20231016T180000
DTEND;TZID=America/Toronto:20231016T200000
DTSTAMP:20260420T005722
CREATED:20230814T184300Z
LAST-MODIFIED:20231012T142714Z
UID:2127-1697479200-1697486400@spiritinniagara.com
SUMMARY:MONDAY BLOOZ & JAZZ
DESCRIPTION:Grab your dancing shoes and head to SiN Monday night for jazz\, blues\, cocktails & food. \nSpirit in Niagara is proud to announce live music every Monday from 6pm-8pm \nFree admission\, book online or call to reserve a table 905-934-1300. \nMonday Night Menu: The Confessional Lounge Jazz Night Menu
URL:https://spiritinniagara.com/event/monday-blooz-jazz-ft-thomas-nelson-band-20/
LOCATION:Spirit in Niagara\, 458 Lakeshore Road\, Niagara-on-the-lake\, Ontario\, L0S1J0\, Canada
CATEGORIES:Live Music
END:VEVENT
BEGIN:VEVENT
DTSTART;TZID=America/Toronto:20231016T180000
DTEND;TZID=America/Toronto:20231016T200000
DTSTAMP:20260420T005722
CREATED:20231016T184226Z
LAST-MODIFIED:20231006T123410Z
UID:2125-1697479200-1697486400@spiritinniagara.com
SUMMARY:MONDAY BLOOZ & JAZZ
DESCRIPTION:Grab your dancing shoes and head to SiN Monday night for jazz\, blues\, cocktails & food. \nSpirit in Niagara is proud to announce live music every Monday from 6pm-8pm \nFree admission\, book online or call to reserve a table 905-934-1300. \nMonday Night Menu: The Confessional Lounge Jazz Night Menu
URL:https://spiritinniagara.com/event/monday-blooz-jazz-ft-on-the-mark-band/
LOCATION:Spirit in Niagara\, 458 Lakeshore Road\, Niagara-on-the-lake\, Ontario\, L0S1J0\, Canada
CATEGORIES:Live Music
END:VEVENT
BEGIN:VEVENT
DTSTART;TZID=America/Toronto:20231020T180000
DTEND;TZID=America/Toronto:20231020T200000
DTSTAMP:20260420T005722
CREATED:20230906T165753Z
LAST-MODIFIED:20230906T165753Z
UID:2165-1697824800-1697832000@spiritinniagara.com
SUMMARY:THE RENOWNED DRAGAN ON SAXOPHONE
DESCRIPTION:Join us for the smooth tunes of Dragan Veljkovic on Saxophone from 6pm – 8pm every Friday. No admission fee\, walk-ins welcome. \nLearn more about Dragan: https://dragansax.com/
URL:https://spiritinniagara.com/event/the-renowned-dragan-on-saxophone-8/
LOCATION:Spirit in Niagara\, 458 Lakeshore Road\, Niagara-on-the-lake\, Ontario\, L0S1J0\, Canada
CATEGORIES:Live Music
END:VEVENT
END:VCALENDAR