BEGIN:VCALENDAR
VERSION:2.0
PRODID:-//Spirit in Niagara - ECPv6.15.20//NONSGML v1.0//EN
CALSCALE:GREGORIAN
METHOD:PUBLISH
X-WR-CALNAME:Spirit in Niagara
X-ORIGINAL-URL:https://spiritinniagara.com
X-WR-CALDESC:Events for Spirit in Niagara
REFRESH-INTERVAL;VALUE=DURATION:PT1H
X-Robots-Tag:noindex
X-PUBLISHED-TTL:PT1H
BEGIN:VTIMEZONE
TZID:America/Toronto
BEGIN:DAYLIGHT
TZOFFSETFROM:-0500
TZOFFSETTO:-0400
TZNAME:EDT
DTSTART:20240310T070000
END:DAYLIGHT
BEGIN:STANDARD
TZOFFSETFROM:-0400
TZOFFSETTO:-0500
TZNAME:EST
DTSTART:20241103T060000
END:STANDARD
BEGIN:DAYLIGHT
TZOFFSETFROM:-0500
TZOFFSETTO:-0400
TZNAME:EDT
DTSTART:20250309T070000
END:DAYLIGHT
BEGIN:STANDARD
TZOFFSETFROM:-0400
TZOFFSETTO:-0500
TZNAME:EST
DTSTART:20251102T060000
END:STANDARD
BEGIN:DAYLIGHT
TZOFFSETFROM:-0500
TZOFFSETTO:-0400
TZNAME:EDT
DTSTART:20260308T070000
END:DAYLIGHT
BEGIN:STANDARD
TZOFFSETFROM:-0400
TZOFFSETTO:-0500
TZNAME:EST
DTSTART:20261101T060000
END:STANDARD
END:VTIMEZONE
BEGIN:VEVENT
DTSTART;TZID=America/Toronto:20250502T210000
DTEND;TZID=America/Toronto:20250502T230000
DTSTAMP:20260419T195510
CREATED:20250418T153211Z
LAST-MODIFIED:20250418T153212Z
UID:2775-1746219600-1746226800@spiritinniagara.com
SUMMARY:SiN Comedy Night
DESCRIPTION:Join us on Friday\, May 2nd\, for a night of laughter! Enjoy delicious cocktails and receive 20% off your dinner when you purchase your ticket before the show. \n  \nTickets can be purchased at https://www.showpass.com/spiritcomedynightmay/ \n  \nAfterward\, please book your reservation with us at Spirit In Niagara by calling 905-934-1300 or through Tock at https://www.exploretock.com/spiritinniagaradistillery/event/547508/sin-comedy-night. \n We look forward to seeing you!
URL:https://spiritinniagara.com/event/sin-comedy-night-2/
LOCATION:Spirit in Niagara\, 458 Lakeshore Road\, Niagara-on-the-lake\, Ontario\, L0S1J0\, Canada
CATEGORIES:Comedy
END:VEVENT
END:VCALENDAR