BEGIN:VCALENDAR
VERSION:2.0
PRODID:-//Spirit in Niagara - ECPv6.15.19//NONSGML v1.0//EN
CALSCALE:GREGORIAN
METHOD:PUBLISH
X-ORIGINAL-URL:https://spiritinniagara.com
X-WR-CALDESC:Events for Spirit in Niagara
REFRESH-INTERVAL;VALUE=DURATION:PT1H
X-Robots-Tag:noindex
X-PUBLISHED-TTL:PT1H
BEGIN:VTIMEZONE
TZID:America/Toronto
BEGIN:DAYLIGHT
TZOFFSETFROM:-0500
TZOFFSETTO:-0400
TZNAME:EDT
DTSTART:20240310T070000
END:DAYLIGHT
BEGIN:STANDARD
TZOFFSETFROM:-0400
TZOFFSETTO:-0500
TZNAME:EST
DTSTART:20241103T060000
END:STANDARD
BEGIN:DAYLIGHT
TZOFFSETFROM:-0500
TZOFFSETTO:-0400
TZNAME:EDT
DTSTART:20250309T070000
END:DAYLIGHT
BEGIN:STANDARD
TZOFFSETFROM:-0400
TZOFFSETTO:-0500
TZNAME:EST
DTSTART:20251102T060000
END:STANDARD
BEGIN:DAYLIGHT
TZOFFSETFROM:-0500
TZOFFSETTO:-0400
TZNAME:EDT
DTSTART:20260308T070000
END:DAYLIGHT
BEGIN:STANDARD
TZOFFSETFROM:-0400
TZOFFSETTO:-0500
TZNAME:EST
DTSTART:20261101T060000
END:STANDARD
END:VTIMEZONE
BEGIN:VEVENT
DTSTART;TZID=America/Toronto:20250301T210000
DTEND;TZID=America/Toronto:20250301T210000
DTSTAMP:20260419T115157
CREATED:20250205T171101Z
LAST-MODIFIED:20250207T172409Z
UID:2736-1740862800-1740862800@spiritinniagara.com
SUMMARY:SPIRIT COMEDY NIGHT PRESENTS: ERIC JOHNSTON INEVITABULL COMEDY TOUR
DESCRIPTION:Join us for unforgettable laughs\, tasty food and delicious drinks Saturday\, March 1st! \nIt’s recommended to arrive earlier for dinner. \nPlease purchase your tickets from the link : https://www.showpass.com/inevitabullcomedytournotl/ \nThen book your reservation through tock under our events: https://www.exploretock.com/spiritinniagaradistillery/event/533690/spirit-comedy-night-presents-eric-johnston-inevitabull-comedy-tour
URL:https://spiritinniagara.com/event/spirit-comedy-night-presents-eric-johnston-inevitabull-comedy-tour/
LOCATION:Spirit in Niagara\, 458 Lakeshore Road\, Niagara-on-the-lake\, Ontario\, L0S1J0\, Canada
END:VEVENT
END:VCALENDAR