BEGIN:VCALENDAR
VERSION:2.0
PRODID:-//Spirit in Niagara - ECPv6.15.19//NONSGML v1.0//EN
CALSCALE:GREGORIAN
METHOD:PUBLISH
X-ORIGINAL-URL:https://spiritinniagara.com
X-WR-CALDESC:Events for Spirit in Niagara
REFRESH-INTERVAL;VALUE=DURATION:PT1H
X-Robots-Tag:noindex
X-PUBLISHED-TTL:PT1H
BEGIN:VTIMEZONE
TZID:America/Toronto
BEGIN:DAYLIGHT
TZOFFSETFROM:-0500
TZOFFSETTO:-0400
TZNAME:EDT
DTSTART:20240310T070000
END:DAYLIGHT
BEGIN:STANDARD
TZOFFSETFROM:-0400
TZOFFSETTO:-0500
TZNAME:EST
DTSTART:20241103T060000
END:STANDARD
BEGIN:DAYLIGHT
TZOFFSETFROM:-0500
TZOFFSETTO:-0400
TZNAME:EDT
DTSTART:20250309T070000
END:DAYLIGHT
BEGIN:STANDARD
TZOFFSETFROM:-0400
TZOFFSETTO:-0500
TZNAME:EST
DTSTART:20251102T060000
END:STANDARD
BEGIN:DAYLIGHT
TZOFFSETFROM:-0500
TZOFFSETTO:-0400
TZNAME:EDT
DTSTART:20260308T070000
END:DAYLIGHT
BEGIN:STANDARD
TZOFFSETFROM:-0400
TZOFFSETTO:-0500
TZNAME:EST
DTSTART:20261101T060000
END:STANDARD
END:VTIMEZONE
BEGIN:VEVENT
DTSTART;TZID=America/Toronto:20250215T110000
DTEND;TZID=America/Toronto:20250215T210000
DTSTAMP:20260419T133202
CREATED:20250130T170823Z
LAST-MODIFIED:20250205T154059Z
UID:2702-1739617200-1739653200@spiritinniagara.com
SUMMARY:Valentines Day with Live Music
DESCRIPTION:A Valentine’s Experience Like No Other\nThis Valentine’s Day\, indulge in a SiNSational dining experience at Spirit in Niagara! Enjoy an exquisite four-course dinner and half-price bottles of wine on February 14th & 15th for $75 per person.\n\n Dine and dance as Ed Pizzo serenades us on the baby grand piano.\n\nValentines Menu:Spinach SaladPerch Wellington Boeuf Menage a Trois (Beef Striploin\, Short Rib Foie Gras Ravioli\, Veal Cheek Rillettes)Crème Brûlée*Our regular Menu will also be offered\n\n\nLet us take care of every detail while you relax and savor an unforgettable evening.\nSpirit in Niagara | Reserve your table today905 934 1300
URL:https://spiritinniagara.com/event/valentines-day/
LOCATION:Spirit in Niagara\, 458 Lakeshore Road\, Niagara-on-the-lake\, Ontario\, L0S1J0\, Canada
ATTACH;FMTTYPE=image/png:https://spiritinniagara.com/wp-content/uploads/2025/01/SiN-Valentines-Instagram-Post-1.png
END:VEVENT
END:VCALENDAR