BEGIN:VCALENDAR
VERSION:2.0
PRODID:-//Spirit in Niagara - ECPv6.15.19//NONSGML v1.0//EN
CALSCALE:GREGORIAN
METHOD:PUBLISH
X-WR-CALNAME:Spirit in Niagara
X-ORIGINAL-URL:https://spiritinniagara.com
X-WR-CALDESC:Events for Spirit in Niagara
REFRESH-INTERVAL;VALUE=DURATION:PT1H
X-Robots-Tag:noindex
X-PUBLISHED-TTL:PT1H
BEGIN:VTIMEZONE
TZID:America/Toronto
BEGIN:DAYLIGHT
TZOFFSETFROM:-0500
TZOFFSETTO:-0400
TZNAME:EDT
DTSTART:20240310T070000
END:DAYLIGHT
BEGIN:STANDARD
TZOFFSETFROM:-0400
TZOFFSETTO:-0500
TZNAME:EST
DTSTART:20241103T060000
END:STANDARD
BEGIN:DAYLIGHT
TZOFFSETFROM:-0500
TZOFFSETTO:-0400
TZNAME:EDT
DTSTART:20250309T070000
END:DAYLIGHT
BEGIN:STANDARD
TZOFFSETFROM:-0400
TZOFFSETTO:-0500
TZNAME:EST
DTSTART:20251102T060000
END:STANDARD
BEGIN:DAYLIGHT
TZOFFSETFROM:-0500
TZOFFSETTO:-0400
TZNAME:EDT
DTSTART:20260308T070000
END:DAYLIGHT
BEGIN:STANDARD
TZOFFSETFROM:-0400
TZOFFSETTO:-0500
TZNAME:EST
DTSTART:20261101T060000
END:STANDARD
END:VTIMEZONE
BEGIN:VEVENT
DTSTART;TZID=America/Toronto:20250201T210000
DTEND;TZID=America/Toronto:20250201T230000
DTSTAMP:20260419T133034
CREATED:20250109T235844Z
LAST-MODIFIED:20250110T001504Z
UID:2683-1738443600-1738450800@spiritinniagara.com
SUMMARY:Spirit Comedy Night
DESCRIPTION:Comedy shows have been a hit! \nJoin us on the first of each month for a night filled with delicious food\, tasty cocktails\, and plenty of laughs.  We recommend arriving earlier to dine. \nSaturday\, February 1st\, 9 PM – 11 PM.  \nPlease visit the link below to purchase your tickets! \nhttps://www.showpass.com/spiritcomedyfebruary/ \nThen Please head over and book with us on Tok: \nhttps://www.exploretock.com/spiritinniagaradistillery/event/527213/spirit-comedy-night
URL:https://spiritinniagara.com/event/spirit-comedy-night-2/
LOCATION:Spirit in Niagara\, 458 Lakeshore Road\, Niagara-on-the-lake\, Ontario\, L0S1J0\, Canada
END:VEVENT
END:VCALENDAR