BEGIN:VCALENDAR
VERSION:2.0
PRODID:-//Spirit in Niagara - ECPv6.15.20//NONSGML v1.0//EN
CALSCALE:GREGORIAN
METHOD:PUBLISH
X-ORIGINAL-URL:https://spiritinniagara.com
X-WR-CALDESC:Events for Spirit in Niagara
REFRESH-INTERVAL;VALUE=DURATION:PT1H
X-Robots-Tag:noindex
X-PUBLISHED-TTL:PT1H
BEGIN:VTIMEZONE
TZID:America/Toronto
BEGIN:DAYLIGHT
TZOFFSETFROM:-0500
TZOFFSETTO:-0400
TZNAME:EDT
DTSTART:20240310T070000
END:DAYLIGHT
BEGIN:STANDARD
TZOFFSETFROM:-0400
TZOFFSETTO:-0500
TZNAME:EST
DTSTART:20241103T060000
END:STANDARD
BEGIN:DAYLIGHT
TZOFFSETFROM:-0500
TZOFFSETTO:-0400
TZNAME:EDT
DTSTART:20250309T070000
END:DAYLIGHT
BEGIN:STANDARD
TZOFFSETFROM:-0400
TZOFFSETTO:-0500
TZNAME:EST
DTSTART:20251102T060000
END:STANDARD
BEGIN:DAYLIGHT
TZOFFSETFROM:-0500
TZOFFSETTO:-0400
TZNAME:EDT
DTSTART:20260308T070000
END:DAYLIGHT
BEGIN:STANDARD
TZOFFSETFROM:-0400
TZOFFSETTO:-0500
TZNAME:EST
DTSTART:20261101T060000
END:STANDARD
END:VTIMEZONE
BEGIN:VEVENT
DTSTART;TZID=America/Toronto:20250104T210000
DTEND;TZID=America/Toronto:20250104T230000
DTSTAMP:20260419T163826
CREATED:20241216T193712Z
LAST-MODIFIED:20241217T175523Z
UID:2673-1736024400-1736031600@spiritinniagara.com
SUMMARY:Spirit Comedy Night
DESCRIPTION:Join us on Saturday\, January 4th\, 2025\, for an unforgettable evening filled with exquisite food\, hand-crafted cocktails\, and plenty of laughter. \nDon’t miss out—click the link below to secure your tickets today: https://www.showpass.com/spiritinniagaracomedy/ \nAfter that\, be sure to make your reservation here:https://www.exploretock.com/spiritinniagaradistillery/event/522986/spirit-comedy-show \n  \n 
URL:https://spiritinniagara.com/event/spirit-comedy-night/
LOCATION:Spirit in Niagara\, 458 Lakeshore Road\, Niagara-on-the-lake\, Ontario\, L0S1J0\, Canada
ATTACH;FMTTYPE=image/jpeg:https://spiritinniagara.com/wp-content/uploads/2024/12/Spirit-2-Poster-Box.jpg
END:VEVENT
END:VCALENDAR