BEGIN:VCALENDAR
VERSION:2.0
PRODID:-//Spirit in Niagara - ECPv6.15.20//NONSGML v1.0//EN
CALSCALE:GREGORIAN
METHOD:PUBLISH
X-ORIGINAL-URL:https://spiritinniagara.com
X-WR-CALDESC:Events for Spirit in Niagara
REFRESH-INTERVAL;VALUE=DURATION:PT1H
X-Robots-Tag:noindex
X-PUBLISHED-TTL:PT1H
BEGIN:VTIMEZONE
TZID:America/Toronto
BEGIN:DAYLIGHT
TZOFFSETFROM:-0500
TZOFFSETTO:-0400
TZNAME:EDT
DTSTART:20230312T070000
END:DAYLIGHT
BEGIN:STANDARD
TZOFFSETFROM:-0400
TZOFFSETTO:-0500
TZNAME:EST
DTSTART:20231105T060000
END:STANDARD
BEGIN:DAYLIGHT
TZOFFSETFROM:-0500
TZOFFSETTO:-0400
TZNAME:EDT
DTSTART:20240310T070000
END:DAYLIGHT
BEGIN:STANDARD
TZOFFSETFROM:-0400
TZOFFSETTO:-0500
TZNAME:EST
DTSTART:20241103T060000
END:STANDARD
BEGIN:DAYLIGHT
TZOFFSETFROM:-0500
TZOFFSETTO:-0400
TZNAME:EDT
DTSTART:20250309T070000
END:DAYLIGHT
BEGIN:STANDARD
TZOFFSETFROM:-0400
TZOFFSETTO:-0500
TZNAME:EST
DTSTART:20251102T060000
END:STANDARD
END:VTIMEZONE
BEGIN:VEVENT
DTSTART;TZID=America/Toronto:20241014T183000
DTEND;TZID=America/Toronto:20241014T203000
DTSTAMP:20260419T195430
CREATED:20240912T161437Z
LAST-MODIFIED:20241009T143840Z
UID:2549-1728930600-1728937800@spiritinniagara.com
SUMMARY:Monday Jazz & Blooz
DESCRIPTION: Monday Night Jazz & Blues \n Every Monday | 6:30 PM – 8:30 PM\n Spirit in Niagara Distillery  \nJoin us for a relaxing evening of live jazz and blues in the heart of Niagara-on-the-Lake! Enjoy rotating performances by two incredible bands: the Thomas Nelson Band and the Wilber James Blues Band. Whether you’re a jazz lover or a blues aficionado\, this night promises soulful tunes\, delicious spirits\, and a welcoming atmosphere. \n Sip & Savor: Pair your evening with our handcrafted small-batch spirits\, made with locally sourced Niagara fruits. \n Support Local: By attending\, you’re supporting local musicians and sustainable practices. \n Reserve Your Spot Today! \nFree admission\, book online or call to reserve a table 905-934-1300
URL:https://spiritinniagara.com/event/monday-jazz-blooz-3/
LOCATION:Ontario
ATTACH;FMTTYPE=image/png:https://spiritinniagara.com/wp-content/uploads/2024/07/Monday-Night-Jazz-and-Blooz.png
END:VEVENT
END:VCALENDAR