BEGIN:VCALENDAR
VERSION:2.0
PRODID:-//Spirit in Niagara - ECPv6.15.20//NONSGML v1.0//EN
CALSCALE:GREGORIAN
METHOD:PUBLISH
X-ORIGINAL-URL:https://spiritinniagara.com
X-WR-CALDESC:Events for Spirit in Niagara
REFRESH-INTERVAL;VALUE=DURATION:PT1H
X-Robots-Tag:noindex
X-PUBLISHED-TTL:PT1H
BEGIN:VTIMEZONE
TZID:America/Toronto
BEGIN:DAYLIGHT
TZOFFSETFROM:-0500
TZOFFSETTO:-0400
TZNAME:EDT
DTSTART:20230312T070000
END:DAYLIGHT
BEGIN:STANDARD
TZOFFSETFROM:-0400
TZOFFSETTO:-0500
TZNAME:EST
DTSTART:20231105T060000
END:STANDARD
BEGIN:DAYLIGHT
TZOFFSETFROM:-0500
TZOFFSETTO:-0400
TZNAME:EDT
DTSTART:20240310T070000
END:DAYLIGHT
BEGIN:STANDARD
TZOFFSETFROM:-0400
TZOFFSETTO:-0500
TZNAME:EST
DTSTART:20241103T060000
END:STANDARD
BEGIN:DAYLIGHT
TZOFFSETFROM:-0500
TZOFFSETTO:-0400
TZNAME:EDT
DTSTART:20250309T070000
END:DAYLIGHT
BEGIN:STANDARD
TZOFFSETFROM:-0400
TZOFFSETTO:-0500
TZNAME:EST
DTSTART:20251102T060000
END:STANDARD
END:VTIMEZONE
BEGIN:VEVENT
DTSTART;TZID=America/Toronto:20240713T190000
DTEND;TZID=America/Toronto:20240713T223000
DTSTAMP:20260420T001539
CREATED:20240624T130711Z
LAST-MODIFIED:20240624T130929Z
UID:2459-1720897200-1720909800@spiritinniagara.com
SUMMARY:Roaring '20s Party at Spirit in Niagara
DESCRIPTION:Roaring ’20s Party\nStep back in time to the Roaring ’20s! Join us at our craft cocktail bar and restaurant for an unforgettable night of glitz\, glamour\, and Gatsby-inspired fun. 🍸 \nDress to impress and get ready to dance the night away! While costumes are not mandatory\, prizes will be awarded to the best dressed! \nWe will welcome you with a lovely libation\, with more available for purchase throughout the evening. Plus\, we’ll have an array of delectable appetizers for your sampling delight. \nWe can’t wait to see you there! Book your tickets!💃
URL:https://spiritinniagara.com/event/roaring-20s-party-at-spirit-in-niagara/
LOCATION:Spirit in Niagara\, 458 Lakeshore Road\, Niagara-on-the-lake\, Ontario\, L0S1J0\, Canada
END:VEVENT
END:VCALENDAR