BEGIN:VCALENDAR
VERSION:2.0
PRODID:-//Spirit in Niagara - ECPv6.15.20//NONSGML v1.0//EN
CALSCALE:GREGORIAN
METHOD:PUBLISH
X-WR-CALNAME:Spirit in Niagara
X-ORIGINAL-URL:https://spiritinniagara.com
X-WR-CALDESC:Events for Spirit in Niagara
REFRESH-INTERVAL;VALUE=DURATION:PT1H
X-Robots-Tag:noindex
X-PUBLISHED-TTL:PT1H
BEGIN:VTIMEZONE
TZID:America/Toronto
BEGIN:DAYLIGHT
TZOFFSETFROM:-0500
TZOFFSETTO:-0400
TZNAME:EDT
DTSTART:20230312T070000
END:DAYLIGHT
BEGIN:STANDARD
TZOFFSETFROM:-0400
TZOFFSETTO:-0500
TZNAME:EST
DTSTART:20231105T060000
END:STANDARD
BEGIN:DAYLIGHT
TZOFFSETFROM:-0500
TZOFFSETTO:-0400
TZNAME:EDT
DTSTART:20240310T070000
END:DAYLIGHT
BEGIN:STANDARD
TZOFFSETFROM:-0400
TZOFFSETTO:-0500
TZNAME:EST
DTSTART:20241103T060000
END:STANDARD
BEGIN:DAYLIGHT
TZOFFSETFROM:-0500
TZOFFSETTO:-0400
TZNAME:EDT
DTSTART:20250309T070000
END:DAYLIGHT
BEGIN:STANDARD
TZOFFSETFROM:-0400
TZOFFSETTO:-0500
TZNAME:EST
DTSTART:20251102T060000
END:STANDARD
END:VTIMEZONE
BEGIN:VEVENT
DTSTART;TZID=America/Toronto:20240512T110000
DTEND;TZID=America/Toronto:20240512T140000
DTSTAMP:20260419T224410
CREATED:20240425T170520Z
LAST-MODIFIED:20240426T153002Z
UID:2357-1715511600-1715522400@spiritinniagara.com
SUMMARY:MOTHER'S DAY BRUNCH AT SPIRIT IN NIAGARA
DESCRIPTION:Celebrate the remarkable women in our lives with a carefully curated brunch at Spirit in Niagara. Our Mother’s Day spread features a selection of fine dishes\, prepared with the same attention to quality that infuses every bottle from our distillery.\n\n\n\n Sunday\, May 12th |  11 am–2 pm\n Regular service to follow\n 458 Lakeshore Rd\, Niagara-on-the-Lake
URL:https://spiritinniagara.com/event/mothers-day-brunch-at-spirit-in-niagara/
LOCATION:Spirit in Niagara\, 458 Lakeshore Road\, Niagara-on-the-lake\, Ontario\, L0S1J0\, Canada
ATTACH;FMTTYPE=image/jpeg:https://spiritinniagara.com/wp-content/uploads/2024/04/SiN-Mothers-Day-Brunch-2024.jpg
END:VEVENT
END:VCALENDAR