BEGIN:VCALENDAR
VERSION:2.0
PRODID:-//Spirit in Niagara - ECPv6.15.20//NONSGML v1.0//EN
CALSCALE:GREGORIAN
METHOD:PUBLISH
X-ORIGINAL-URL:https://spiritinniagara.com
X-WR-CALDESC:Events for Spirit in Niagara
REFRESH-INTERVAL;VALUE=DURATION:PT1H
X-Robots-Tag:noindex
X-PUBLISHED-TTL:PT1H
BEGIN:VTIMEZONE
TZID:America/Toronto
BEGIN:DAYLIGHT
TZOFFSETFROM:-0500
TZOFFSETTO:-0400
TZNAME:EDT
DTSTART:20230312T070000
END:DAYLIGHT
BEGIN:STANDARD
TZOFFSETFROM:-0400
TZOFFSETTO:-0500
TZNAME:EST
DTSTART:20231105T060000
END:STANDARD
BEGIN:DAYLIGHT
TZOFFSETFROM:-0500
TZOFFSETTO:-0400
TZNAME:EDT
DTSTART:20240310T070000
END:DAYLIGHT
BEGIN:STANDARD
TZOFFSETFROM:-0400
TZOFFSETTO:-0500
TZNAME:EST
DTSTART:20241103T060000
END:STANDARD
BEGIN:DAYLIGHT
TZOFFSETFROM:-0500
TZOFFSETTO:-0400
TZNAME:EDT
DTSTART:20250309T070000
END:DAYLIGHT
BEGIN:STANDARD
TZOFFSETFROM:-0400
TZOFFSETTO:-0500
TZNAME:EST
DTSTART:20251102T060000
END:STANDARD
END:VTIMEZONE
BEGIN:VEVENT
DTSTART;TZID=America/Toronto:20240427T120000
DTEND;TZID=America/Toronto:20240428T180000
DTSTAMP:20260419T212113
CREATED:20240425T170755Z
LAST-MODIFIED:20240426T152943Z
UID:2361-1714219200-1714327200@spiritinniagara.com
SUMMARY:PEACH BLOSSOMS TASTING EVENT
DESCRIPTION:As peach blossoms fill the orchard with their fleeting beauty\, Spirit in Niagara invites you to a once-a-year celebration that captures the essence of spring. Don’t miss out on our exclusive Peach Blossom Weekend on April 27th and 28th—a perfect blend of nature\, craft\, and tradition. \n  \nPeach trees are in bloom for just a short time each year\, and we are in the heart of that precious window. This weekend\, walk through our vibrant orchard transformed into a picturesque tasting realm with: \n\nFour Unique Cocktail Stations: Savor handcrafted cocktails made from our finest fruit eau de vie and fruit liqueurs.\nColorful Parasols and Photo Opportunities: The orchard\, dotted with 20 vibrant parasols\, offers idyllic settings for photos amidst the pink and white blossoms.\nStaying for dinner? Complimentary sliced peach or pear dessert with a sugared Eau de Vie drizzle\n\nEvent Details:\n\nLocation: Spirit in Niagara\, 458 Lakeshore Rd\, Niagara-on-the-Lake\nDates: Saturday\, April 27th – Sunday\, April 28th\nTime: 12pm – 8pm\n 
URL:https://spiritinniagara.com/event/peach-blossoms-tasting-event/
LOCATION:Spirit in Niagara\, 458 Lakeshore Road\, Niagara-on-the-lake\, Ontario\, L0S1J0\, Canada
ATTACH;FMTTYPE=image/png:https://spiritinniagara.com/wp-content/uploads/2024/04/Peach-Blossoms.png
END:VEVENT
END:VCALENDAR