BEGIN:VCALENDAR
VERSION:2.0
PRODID:-//Spirit in Niagara - ECPv6.15.19//NONSGML v1.0//EN
CALSCALE:GREGORIAN
METHOD:PUBLISH
X-ORIGINAL-URL:https://spiritinniagara.com
X-WR-CALDESC:Events for Spirit in Niagara
REFRESH-INTERVAL;VALUE=DURATION:PT1H
X-Robots-Tag:noindex
X-PUBLISHED-TTL:PT1H
BEGIN:VTIMEZONE
TZID:America/Toronto
BEGIN:DAYLIGHT
TZOFFSETFROM:-0500
TZOFFSETTO:-0400
TZNAME:EDT
DTSTART:20220313T070000
END:DAYLIGHT
BEGIN:STANDARD
TZOFFSETFROM:-0400
TZOFFSETTO:-0500
TZNAME:EST
DTSTART:20221106T060000
END:STANDARD
BEGIN:DAYLIGHT
TZOFFSETFROM:-0500
TZOFFSETTO:-0400
TZNAME:EDT
DTSTART:20230312T070000
END:DAYLIGHT
BEGIN:STANDARD
TZOFFSETFROM:-0400
TZOFFSETTO:-0500
TZNAME:EST
DTSTART:20231105T060000
END:STANDARD
BEGIN:DAYLIGHT
TZOFFSETFROM:-0500
TZOFFSETTO:-0400
TZNAME:EDT
DTSTART:20240310T070000
END:DAYLIGHT
BEGIN:STANDARD
TZOFFSETFROM:-0400
TZOFFSETTO:-0500
TZNAME:EST
DTSTART:20241103T060000
END:STANDARD
END:VTIMEZONE
BEGIN:VEVENT
DTSTART;TZID=America/Toronto:20230917T140000
DTEND;TZID=America/Toronto:20230917T160000
DTSTAMP:20260419T102634
CREATED:20230708T022029Z
LAST-MODIFIED:20230708T022029Z
UID:2081-1694959200-1694966400@spiritinniagara.com
SUMMARY:Theatre Bacchus presents Twelfth Night
DESCRIPTION:Inspired by Bacchus\, the Roman god of wine and theatre\, Theatre Bacchus is a professional live theatre operating in the heart of Niagara’s wine country. Theatre Bacchus provides an enhanced theatre-going experience combining live theatre with local wine\, craft beer\, or local spirits in a relaxed\, ‘hosted’ environment.\n\n\n\n\nJoin Spirit in Niagara and Theatre Bacchus for 5 performances of William Shakespeare’s classic Twelfth Night. \n\n\n\n\nabout: \nTwins are separated in a shipwreck\, and forced to fend for themselves in a strange land. Viola thinks her brother is dead. He thinks that she is dead. Everyone thinks that she is her brother. Everyone thinks that her brother is her. Shenanigans ensue.The first twin\, Viola\, falls in love with Orsino\, who dotes on OIivia\, who falls for Viola but is idolised by Malvolio. Enter Sebastian\, who is the spitting image of his twin sister…Lots of confusion and hilarity follows around the mistaken identity of Sebastian and Cesario\, and exactly who is promised to whom. \nThe ticket price includes a 750mL To Go bottle of SiN Iced Tea that can be consumed during the show or as a take-home treat! The restaurant is open until 8pm\, it is recommended guests arrive 2 hours before showtime for food service. \nShow times: \nSeptember 8th:  8pm – 10pm\nSeptember 9th: 2pm – 4pm\, 8pm – 10pm\nSeptember 10th: 2pm – 4pm \nSeptember 15th: 8pm – 10pm\nSeptember 16th: 2pm – 4pm\, 8pm – 10pm\nSeptember 17th: 2pm – 4pm \n\n\n 
URL:https://spiritinniagara.com/event/theatre-bacchus-presents-twelfth-night-4/
LOCATION:Spirit in Niagara\, 458 Lakeshore Road\, Niagara-on-the-lake\, Ontario\, L0S1J0\, Canada
CATEGORIES:Theatre
END:VEVENT
END:VCALENDAR