BEGIN:VCALENDAR
VERSION:2.0
PRODID:-//Spirit in Niagara - ECPv6.15.19//NONSGML v1.0//EN
CALSCALE:GREGORIAN
METHOD:PUBLISH
X-ORIGINAL-URL:https://spiritinniagara.com
X-WR-CALDESC:Events for Spirit in Niagara
REFRESH-INTERVAL;VALUE=DURATION:PT1H
X-Robots-Tag:noindex
X-PUBLISHED-TTL:PT1H
BEGIN:VTIMEZONE
TZID:America/Toronto
BEGIN:DAYLIGHT
TZOFFSETFROM:-0500
TZOFFSETTO:-0400
TZNAME:EDT
DTSTART:20220313T070000
END:DAYLIGHT
BEGIN:STANDARD
TZOFFSETFROM:-0400
TZOFFSETTO:-0500
TZNAME:EST
DTSTART:20221106T060000
END:STANDARD
BEGIN:DAYLIGHT
TZOFFSETFROM:-0500
TZOFFSETTO:-0400
TZNAME:EDT
DTSTART:20230312T070000
END:DAYLIGHT
BEGIN:STANDARD
TZOFFSETFROM:-0400
TZOFFSETTO:-0500
TZNAME:EST
DTSTART:20231105T060000
END:STANDARD
BEGIN:DAYLIGHT
TZOFFSETFROM:-0500
TZOFFSETTO:-0400
TZNAME:EDT
DTSTART:20240310T070000
END:DAYLIGHT
BEGIN:STANDARD
TZOFFSETFROM:-0400
TZOFFSETTO:-0500
TZNAME:EST
DTSTART:20241103T060000
END:STANDARD
END:VTIMEZONE
BEGIN:VEVENT
DTSTART;TZID=America/Toronto:20230214T110000
DTEND;TZID=America/Toronto:20230214T190000
DTSTAMP:20260419T085508
CREATED:20230213T151746Z
LAST-MODIFIED:20230213T151748Z
UID:1810-1676372400-1676401200@spiritinniagara.com
SUMMARY:Valentine's Menu
DESCRIPTION:Valentine wine and dine. Treat your beloved to our SiNsational Valentine’s Tasting Experience available Friday\, February 10th to Valentine’s Day (Tuesday\, February 14th). 💓 \nBook Now
URL:https://spiritinniagara.com/event/valentines-menu/
LOCATION:Spirit in Niagara\, 458 Lakeshore Road\, Niagara-on-the-lake\, Ontario\, L0S1J0\, Canada
CATEGORIES:Holiday
END:VEVENT
BEGIN:VEVENT
DTSTART;TZID=America/Toronto:20230214T110000
DTEND;TZID=America/Toronto:20230214T193000
DTSTAMP:20260419T085508
CREATED:20230213T151949Z
LAST-MODIFIED:20230213T152124Z
UID:1815-1676372400-1676403000@spiritinniagara.com
SUMMARY:Valentine's Menu
DESCRIPTION:Valentine wine and dine. Treat your beloved to our SiNsational Valentine’s Tasting Experience available Friday\, February 10th to Valentine’s Day (Tuesday\, February 14th). 💓 \nBook Now
URL:https://spiritinniagara.com/event/valentines-menu-2/
LOCATION:Spirit in Niagara\, 458 Lakeshore Road\, Niagara-on-the-lake\, Ontario\, L0S1J0\, Canada
CATEGORIES:Holiday
END:VEVENT
END:VCALENDAR